BEGIN:VCALENDAR
VERSION:2.0
PRODID:-//ChamberMaster//Event Calendar 2.0//EN
METHOD:PUBLISH
X-PUBLISHED-TTL:P3D
REFRESH-INTERVAL:P3D
CALSCALE:GREGORIAN
BEGIN:VEVENT
DTSTART:20191101T153000Z
DTEND:20191101T180000Z
X-MICROSOFT-CDO-ALLDAYEVENT:FALSE
SUMMARY:Grand Opening & Ribbon Cutting Celebration at Minuteman Press
DESCRIPTION:Join us on Friday\, November 1\, 2019\, at 11:30 a.m. as we cut the ribbon and celebrate the Grand Opening of Minuteman Press!  Stick around for lunch (subs\, chips\, cookies)\, and enter the drawing to win 500 FREE business cards.\n\n\n\nMinuteman Press is a one-stop-shop for all of your business branding needs!  Check out their high-quality products\, timely service\, and competitive prices.
X-ALT-DESC;FMTTYPE=text/html:<br />\nJoin us on <strong>Friday\, November 1\, 2019</strong>\, at <strong>11:30 a.m.</strong> as we cut the ribbon and celebrate the <strong>Grand Opening of Minuteman Press!&nbsp\;</strong> Stick around for lunch (subs\, chips\, cookies)\, and enter the drawing to win 500 FREE business cards.<br />\n<br />\nMinuteman Press is a one-stop-shop for all of your business branding needs!&nbsp\; Check out their high-quality products\, timely service\, and competitive prices.&nbsp\;&nbsp\;<br />\n&nbsp\;
LOCATION:Minuteman Press 6012 E. Main St. Columbus (Right near Outback Steakhouse)
UID:e.1451.13734
SEQUENCE:3
DTSTAMP:20260425T155725Z
URL:https://business.pickeringtonchamber.com/events/details/grand-opening-ribbon-cutting-celebration-at-minuteman-press-13734
END:VEVENT

END:VCALENDAR
