BEGIN:VCALENDAR
VERSION:2.0
PRODID:-//ChamberMaster//Event Calendar 2.0//EN
METHOD:PUBLISH
X-PUBLISHED-TTL:P3D
REFRESH-INTERVAL:P3D
CALSCALE:GREGORIAN
BEGIN:VEVENT
DTSTART:20190314T140000Z
DTEND:20190314T150000Z
X-MICROSOFT-CDO-ALLDAYEVENT:FALSE
SUMMARY:Grand Opening & Ribbon Cutting at Vitality Bowls!
DESCRIPTION:Join us on Thursday\, March 14\, 2019\, at 10 a.m. as we cut the ribbon and welcome Vitality Bowls to the Pickerington Community during their Grand Opening Celebration!  \n\n\n\nMore fun just added:  10am - 12pm come and see the Buckeye Guy.  5pm - 7pm there will be caricature artists and spin the wheel for prizes!!\n\n \n\n\nRoy Gilad and Tara Gilad\, a pair of successful business owners\, founded Vitality Bowls in 2011 in San Ramon\, California. The duo started the superfood caf  concept together as a result of discovering their daughter's severe food allergies and wanting to find healthy\, safe food alternatives. Since franchising began in 2014\, the brand has seen significant growth with more than 100 caf s open and in development. Today\, Vitality Bowls is redefining the fast casual healthy food restaurant sector every day at each of its locations across the country.\n\n\n\n \n\n\n\n\n\nVitality Bowls is revolutionizing healthy food across the country.
X-ALT-DESC;FMTTYPE=text/html:<br />\nJoin us on <strong>Thursday\, March 14\, 2019\,</strong> at <strong>10 a.m. </strong>as we cut the ribbon and welcome <strong>Vitality Bowls </strong>to the Pickerington Community during their <strong>Grand Opening Celebration!&nbsp\;&nbsp\;<br />\n<br />\nMore fun just added:&nbsp\; 10am - 12pm come and see the Buckeye Guy.&nbsp\; 5pm - 7pm there will be caricature artists and spin the wheel for prizes!!</strong><br />\n&nbsp\;\n<div class="et_pb_module et_pb_text et_pb_text_2 et_pb_bg_layout_light  et_pb_text_align_left" open="" style="box-sizing: border-box\; margin: 0px 0px 31.3906px\; padding: 0px\; border: 0px\; outline: 0px\; background-image: initial\; background-position: center center\; background-size: cover\; background-repeat: no-repeat\; background-attachment: initial\; background-origin: initial\; background-clip: initial\; font-size: 14px\; vertical-align: baseline\; text-size-adjust: 100%\; overflow-wrap: break-word\; animation-timing-function: linear\; animation-duration: 0.2s\; color: rgb(102\, 102\, 102)\; font-family: ">\n<div class="et_pb_text_inner" style="box-sizing: border-box\; margin: 0px\; padding: 0px\; border: 0px\; outline: 0px\; background: 0px 0px\; vertical-align: baseline\; text-size-adjust: 100%\; position: relative\;">\n<p style="box-sizing: border-box\; margin: 0px\; padding: 0px\; border: 0px\; outline: 0px\; background: 0px 0px\; vertical-align: baseline\; text-size-adjust: 100%\;">Roy Gilad and Tara Gilad\, a pair of successful business owners\, founded Vitality Bowls in 2011 in San Ramon\, California. The duo started the superfood caf&eacute\; concept together as a result of discovering their daughter&rsquo\;s severe food allergies and wanting to find healthy\, safe food alternatives. Since franchising began in 2014\, the brand has seen significant growth with more than 100 caf&eacute\;s open and in development. Today\, Vitality Bowls is redefining the fast casual healthy food restaurant sector every day at each of its locations across the country.<br />\n<br />\n&nbsp\;</p>\n</div>\n</div>\n\n<div 0px="" class="et_pb_module et_pb_cta_0 et_hover_enabled et_pb_promo et_pb_bg_layout_dark  et_pb_text_align_left et_pb_no_bg" color:="" open="" padding:="" style="box-sizing: border-box\; margin: 0px 0px 31.3906px\; border: 0px\; outline: 0px\; background-image: initial\; background-position: center center\; background-size: cover\; background-repeat: no-repeat\; background-attachment: initial\; background-origin: initial\; background-clip: initial\; font-size: 14px\; vertical-align: baseline\; text-size-adjust: 100%\; animation-timing-function: linear\; animation-duration: 0.2s\; position: relative\; z-index: 2\; font-family: ">\n<div class="et_pb_promo_description" style="box-sizing: border-box\; margin: 0px\; padding: 0px 0px 20px\; border: 0px\; outline: 0px\; background: 0px 0px\; vertical-align: baseline\; text-size-adjust: 100%\; overflow-wrap: break-word\; position: relative\;">\n<h2 class="et_pb_module_header" style="box-sizing: border-box\; margin: 0px\; padding: 0px 0px 10px\; border: 0px\; outline: 0px\; background: 0px 0px\; vertical-align: baseline\; text-size-adjust: 100%\; line-height: 1em\; font-family: Lobster\, display !important\; font-size: 45px !important\; color: rgb(245\, 130\, 40) !important\;"><span style="font-size:18px\;">Vitality Bowls is revolutionizing healthy food across the country.</span></h2>\n</div>\n</div>\n
LOCATION:Vitality Bowls 1510 Stonecreek Dr. S Pickerington (Next to Rooster's)
UID:e.1451.12729
SEQUENCE:3
DTSTAMP:20260426T041142Z
URL:https://business.pickeringtonchamber.com/events/details/grand-opening-ribbon-cutting-at-vitality-bowls-12729
END:VEVENT

END:VCALENDAR
