BEGIN:VCALENDAR
VERSION:2.0
PRODID:-//ChamberMaster//Event Calendar 2.0//EN
METHOD:PUBLISH
X-PUBLISHED-TTL:P3D
REFRESH-INTERVAL:P3D
CALSCALE:GREGORIAN
BEGIN:VEVENT
DTSTART:20210924T121500Z
DTEND:20210924T124500Z
X-MICROSOFT-CDO-ALLDAYEVENT:FALSE
SUMMARY:Grand Opening & Ribbon Cutting at Visual Care Associates
DESCRIPTION:Join us on Friday\, September 24\, 2021\, at 8:15 a.m. as we welcome a new business into Pickerington - Visual Care Associates!  Meet Dr. Bickle and his team and help them celebrate their Grand Opening with a Ribbon Cutting Ceremony!\n\n\n\nRibbon Cutting's are a great way to meet new business\, welcome them\, and start making new connections.  Everyone is welcome to join in the fun!  We hope to see you there.
X-ALT-DESC;FMTTYPE=text/html:<br />\nJoin us on Friday\, September 24\, 2021\, at 8:15 a.m. as we welcome a new business into Pickerington - Visual Care Associates!&nbsp\; Meet Dr. Bickle and his team and help them celebrate their Grand Opening with a Ribbon Cutting Ceremony!<br />\n<br />\nRibbon Cutting&#39\;s are a great way to meet new business\, welcome them\, and start making new connections.&nbsp\; Everyone is welcome to join in the fun!&nbsp\; We hope to see you there.
LOCATION:Visual Care Associates 1121 Hill Rd. N Pickerington\, OH 43147
UID:e.1451.15408
SEQUENCE:3
DTSTAMP:20260424T062354Z
URL:https://business.pickeringtonchamber.com/events/details/grand-opening-ribbon-cutting-at-visual-care-associates-15408
END:VEVENT

END:VCALENDAR
