BEGIN:VCALENDAR
VERSION:2.0
PRODID:-//ChamberMaster//Event Calendar 2.0//EN
METHOD:PUBLISH
X-PUBLISHED-TTL:P3D
REFRESH-INTERVAL:P3D
CALSCALE:GREGORIAN
BEGIN:VEVENT
DTSTART:20191001T143000Z
DTEND:20191001T153000Z
X-MICROSOFT-CDO-ALLDAYEVENT:FALSE
SUMMARY:Grand Opening & Ribbon Cutting at MacKenzie River!
DESCRIPTION:Join us on Tuesday\, October 1\, 2019\, as we welcome MacKenzie River into the Pickerington community with a Grand Opening & Ribbon Cutting Celebration!  \n\n\n\nMackenzie River opened their doors 25 years ago in Bozeman\, Montana.  Their mission is to provide a distinctive experience by offering delicious food\, creatively prepared\, served by an energetic staff.  \n\n\n\nJoin us in welcoming Ohio's fourth location and check out their fabulous menu selection!
X-ALT-DESC;FMTTYPE=text/html:<br />\nJoin us on <strong>Tuesday\, October 1\, 2019</strong>\, as we welcome <strong>MacKenzie River</strong> into the Pickerington community with a <strong>Grand Opening &amp\; Ribbon Cutting Celebration!&nbsp\;&nbsp\;</strong><br />\n<br />\nMackenzie River opened their doors 25 years ago in Bozeman\, Montana.&nbsp\; Their mission is to provide a distinctive experience by offering delicious food\, creatively prepared\, served by an energetic staff.&nbsp\;&nbsp\;<br />\n<br />\nJoin us in welcoming Ohio&#39\;s fourth location and check out their fabulous menu selection!
LOCATION:Mackenzie River Pizza 1281 Hill Rd. North Pickerington
UID:e.1451.13674
SEQUENCE:3
DTSTAMP:20260425T190934Z
URL:https://business.pickeringtonchamber.com/events/details/grand-opening-ribbon-cutting-at-mackenzie-river-13674
END:VEVENT

END:VCALENDAR
