BEGIN:VCALENDAR
VERSION:2.0
PRODID:-//ChamberMaster//Event Calendar 2.0//EN
METHOD:PUBLISH
X-PUBLISHED-TTL:P3D
REFRESH-INTERVAL:P3D
CALSCALE:GREGORIAN
BEGIN:VEVENT
DTSTART:20190913T140000Z
DTEND:20190913T150000Z
X-MICROSOFT-CDO-ALLDAYEVENT:FALSE
SUMMARY:Grand Opening & Ribbon Cutting at 19 West Salon
DESCRIPTION:Join us on Friday\, September 13\, 2019\, for the Grand Opening & Ribbon Cutting Celebration for 19 West Salon!  Cara Shop and her team will be on hand to showcase this new business in Downtown Pickerington.  \n\n\n\nFull service boutique hair salon located in the heart of Pickerington\,OH at 19 W. Columbus St. Specializing in balayage\, custom color and on trend hair styles.
X-ALT-DESC;FMTTYPE=text/html:<br />\n<span style="font-size:16px\;"><span style="color:#696969\;"><span style="font-family:verdana\;">Join us on<strong> Friday\, September 13\, 2019</strong>\, for the <strong>Grand Opening &amp\; Ribbon Cutting Celebration</strong> for <strong>19 West Salon!&nbsp\;</strong> Cara Shop and her team will be on hand to showcase this new business in Downtown Pickerington.&nbsp\;&nbsp\;<br />\n<br />\n<span style="background-color: rgb(255\, 255\, 255)\;">Full service boutique&nbsp\;</span><span style="font-weight: bold\; background-color: rgb(255\, 255\, 255)\;">hair salon</span><span style="background-color: rgb(255\, 255\, 255)\;">&nbsp\;located in the heart of Pickerington\,OH at&nbsp\;</span><span style="font-weight: bold\; background-color: rgb(255\, 255\, 255)\;">19 W</span><span style="background-color: rgb(255\, 255\, 255)\;">. Columbus St. Specializing in balayage\, custom color and on trend hair styles.</span></span></span></span><br />\n<br />\n&nbsp\;
LOCATION:19 West Salon 19 W. Columbus St. Pickerington
UID:e.1451.13606
SEQUENCE:3
DTSTAMP:20260425T192153Z
URL:https://business.pickeringtonchamber.com/events/details/grand-opening-ribbon-cutting-at-19-west-salon-13606
END:VEVENT

END:VCALENDAR
