BEGIN:VCALENDAR
VERSION:2.0
PRODID:-//ChamberMaster//Event Calendar 2.0//EN
METHOD:PUBLISH
X-PUBLISHED-TTL:P3D
REFRESH-INTERVAL:P3D
CALSCALE:GREGORIAN
BEGIN:VEVENT
DTSTART:20210617T130000Z
DTEND:20210617T140000Z
X-MICROSOFT-CDO-ALLDAYEVENT:FALSE
SUMMARY:Gerber Presents - "What The Hell Do I Do Now?"
DESCRIPTION:It's been a tough year and a half - we get it! Entrepreneurs in the Restaurant & Hospitality industry have been hit hard and have made some drastic changes to stay afloat.\n\nYou know where you've been\, but what the hell are you going to do moving forward? Our panel of professionals will discuss how innovation and new technologies has changed the diner/consumer experience\, navigating the current labor force shortage\, and what tax implications may be coming down the pipeline that you should be aware of.\n\nWho will be on our panel?\n\n\n	Randy Gerber - Founder & Advisor\, Gerber\, LLC\n	Stephan Harman - Co-Founder\, FUSIAN\n	James Kosht - CFO\, Land-Grant\n	Mark Stansbury - Co-Owner\, Stansbury & Weaver\n	Kaz Unalan - Director\, Tax & Business Advisory Services\, GBQ
X-ALT-DESC;FMTTYPE=text/html:&nbsp\;\n<p style="margin: 0px\; padding: 0px\; color: rgb(111\, 114\, 135)\; font-size: 16px\; line-height: 1.5rem\; font-family: &quot\;Neue Plak&quot\;\, -apple-system\, BlinkMacSystemFont\, Roboto\, &quot\;Helvetica Neue&quot\;\, Helvetica\, Tahoma\, Arial\, sans-serif\; letter-spacing: 0.5px\;">It&#39\;s been a tough year and a half - we get it! Entrepreneurs in the Restaurant &amp\; Hospitality industry have been hit hard and have made some drastic changes to stay afloat.</p>\n\n<p style="margin: 0px\; padding: 10px 0px 0px\; color: rgb(111\, 114\, 135)\; font-size: 16px\; line-height: 1.5rem\; font-family: &quot\;Neue Plak&quot\;\, -apple-system\, BlinkMacSystemFont\, Roboto\, &quot\;Helvetica Neue&quot\;\, Helvetica\, Tahoma\, Arial\, sans-serif\; letter-spacing: 0.5px\;">You know where you&#39\;ve been\, but what the hell are you going to do moving forward? Our panel of professionals will discuss how innovation and new technologies has changed the diner/consumer experience\, navigating the current labor force shortage\, and what tax implications may be coming down the pipeline that you should be aware of.</p>\n\n<p style="margin: 0px\; padding: 10px 0px 0px\; color: rgb(111\, 114\, 135)\; font-size: 16px\; line-height: 1.5rem\; font-family: &quot\;Neue Plak&quot\;\, -apple-system\, BlinkMacSystemFont\, Roboto\, &quot\;Helvetica Neue&quot\;\, Helvetica\, Tahoma\, Arial\, sans-serif\; letter-spacing: 0.5px\;">Who will be on our panel?</p>\n\n<ul style="margin: 0px\; padding-top: 10px\; padding-right: 0px\; padding-left: 2em\; list-style-position: initial\; list-style-image: initial\; color: rgb(111\, 114\, 135)\; font-size: 16px\; line-height: 1.5rem\; font-family: &quot\;Neue Plak&quot\;\, -apple-system\, BlinkMacSystemFont\, Roboto\, &quot\;Helvetica Neue&quot\;\, Helvetica\, Tahoma\, Arial\, sans-serif\; letter-spacing: 0.5px\;">\n	<li style="margin: 0px\; padding: 0px\;">Randy Gerber - Founder &amp\; Advisor\, Gerber\, LLC</li>\n	<li style="margin: 0px\; padding: 5px 0px 0px\;">Stephan Harman - Co-Founder\, FUSIAN</li>\n	<li style="margin: 0px\; padding: 5px 0px 0px\;">James Kosht - CFO\, Land-Grant</li>\n	<li style="margin: 0px\; padding: 5px 0px 0px\;">Mark Stansbury - Co-Owner\, Stansbury &amp\; Weaver</li>\n	<li style="margin: 0px\; padding: 5px 0px 0px\;">Kaz Unalan - Director\, Tax &amp\; Business Advisory Services\, GBQ</li>\n</ul>\n
LOCATION:Virtual
UID:e.1451.15328
SEQUENCE:3
DTSTAMP:20260424T110756Z
URL:https://business.pickeringtonchamber.com/events/details/gerber-presents-what-the-hell-do-i-do-now-15328
END:VEVENT

END:VCALENDAR
