BEGIN:VCALENDAR
VERSION:2.0
PRODID:-//ChamberMaster//Event Calendar 2.0//EN
METHOD:PUBLISH
X-PUBLISHED-TTL:P3D
REFRESH-INTERVAL:P3D
CALSCALE:GREGORIAN
BEGIN:VEVENT
DTSTART:20210422T150000Z
DTEND:20210423T033000Z
X-MICROSOFT-CDO-ALLDAYEVENT:FALSE
SUMMARY:Gerber\, LLC- Innovate to Dominate
DESCRIPTION:Learn the important insights Randy Gerber gained while helping business owners work through the challenges of 2020. This includes helping businesses make valuable pivots\, implement strategy\, and continuously innovate to succeed. Entrepreneurs and business leaders will find out how to implement the lessons of 2020 so they can dominate!\n\n\n\nKey take-aways:\n\n	The importance of staying up to date on the surrounding world\n	How to continuously innovate to succeed\n\n\n\n\nRandy Gerber\n\nFounder + Advisor\, Gerber\, LLC\n\nIn the heart of Columbus\, Ohio's entrepreneurial ecosystem - and not far from the stadium of his beloved Buckeyes - is the office of Randy Gerber. Randy is a successful business owner\, a devoted family man\, an OSU alumnus (and arguably their biggest fan)\, and a leader in figuring out how to simultaneously have a successful business an a robust personal life.
X-ALT-DESC;FMTTYPE=text/html:<br />\n<span style="font-family:arial\;">Learn the important insights Randy Gerber gained while helping business owners work through the challenges of 2020. This includes<span style="font-size:12px\;"> <span style="font-size:14px\;">helping businesses make valuable</span></span> pivots\, implement strategy\, and continuously innovate to succeed. Entrepreneurs and business leaders will find out how to implement the lessons of 2020 so they can dominate!<br />\n<br />\nKey take-aways:</span>\n<ul style="list-style-type:circle\;">\n	<li><span style="font-family:arial\;">The importance of staying up to date on the surrounding world</span></li>\n	<li><span style="font-family:arial\;">How to continuously innovate to succeed</span></li>\n</ul>\n\n<p helvetica="" letter-spacing:="" neue="" style="margin: 0px\; padding: 0px\; color: rgb(111\, 114\, 135)\; font-size: 16px\; line-height: 1.5rem\; text-align: center\;"><br />\n<span style="font-family:arial\;"><span style="color:#000000\;"><span style="font-weight: 700\; padding-top: 0px\;">Randy Gerber</span></span></span></p>\n\n<p helvetica="" letter-spacing:="" neue="" style="margin: 0px\; padding: 10px 0px 0px\; color: rgb(111\, 114\, 135)\; font-size: 16px\; line-height: 1.5rem\; text-align: center\;"><span style="font-family:arial\;"><span style="color:#000000\;"><span style="font-size:12px\;"><span style="font-weight: 700\; padding-top: 0px\;">Founder + Advisor\, Gerber\, LLC</span></span></span></span></p>\n\n<p helvetica="" letter-spacing:="" neue="" style="margin: 0px\; padding: 10px 0px 0px\; color: rgb(111\, 114\, 135)\; font-size: 16px\; line-height: 1.5rem\; font-family: "><span style="font-family:arial\;"><span style="color:#000000\;"><span style="font-size:12px\;"><span style="font-size:14px\;">In the heart of Columbus\, Ohio&#39\;s entrepreneurial ecosystem - and not far from the stadium of his beloved Buckeyes - is the office of Randy Gerber. Randy is a successful business owner\, a devoted family man\, an OSU alumnus (and arguably their biggest fan)\, and a leader in figuring out how to simultaneously have a successful business an a robust personal life.</span></span></span></span></p>\n
LOCATION:Virtual
UID:e.1451.15045
SEQUENCE:3
DTSTAMP:20260424T141745Z
URL:https://business.pickeringtonchamber.com/events/details/gerber-llc-innovate-to-dominate-15045
END:VEVENT

END:VCALENDAR
