BEGIN:VCALENDAR
VERSION:2.0
PRODID:-//ChamberMaster//Event Calendar 2.0//EN
METHOD:PUBLISH
X-PUBLISHED-TTL:P3D
REFRESH-INTERVAL:P3D
CALSCALE:GREGORIAN
BEGIN:VEVENT
DTSTART:20200707T220000Z
DTEND:20200707T230000Z
X-MICROSOFT-CDO-ALLDAYEVENT:FALSE
SUMMARY:Freestyle Drawing Ages 8 and Up - Summer Session 1
DESCRIPTION:Freestyle Drawing Ages 8 and up - Summer session 1\n \n\nTue\, Jun 23\, 2020 6:00 PM\n\nTue\, Jun 30\, 2020 6:00 PM\n\nTue\, Jul 7\, 2020 6:00 PM\n\nTue\, Jul 14\, 2020 6:00 PM\n\n\n\nThis course is geared for those students who are interested in expanding their own creativity with guided assistance.\n\nEach week's class or "session" features a loosely structured theme for the students to focus on and apply to their own designs and characters.\n\nThis course offers one-on-one analysis and direction from the instructor to help the student fine tune key elements in their own drawings.\n\nAll levels of skills and drawing styles are encouraged. \n\nAges 8 and up
X-ALT-DESC;FMTTYPE=text/html:<h6 class="my-0" style="box-sizing: border-box\; font-weight: 300\; line-height: 1.2\; font-size: 1rem\; color: rgb(79\, 84\, 103)\; font-family: Cabin\, sans-serif\; background-color: rgb(255\, 255\, 255)\; margin-bottom: 0px !important\; margin-top: 0px !important\;"><span style="color:#000000\;"><span style="font-family:verdana\;">Freestyle Drawing Ages 8 and up - Summer session 1</span></span></h6>\n&nbsp\;\n\n<p style="box-sizing: border-box\; margin-top: 0px\; margin-bottom: 1rem\; font-family: Cabin\, sans-serif\; background-color: rgb(248\, 249\, 250)\; color: rgba(0\, 0\, 0\, 0.6)\; font-size: 14px\;"><span style="color:#000000\;"><span style="font-family:verdana\;"><small class="text-muted" style="box-sizing: border-box\; font-size: 16px\; font-family: Cabin\, sans-serif\; background-color: rgb(255\, 255\, 255)\; color: rgb(108\, 117\, 125) !important\;"><span style="box-sizing: border-box\;">Tue\, Jun 23\, 2020 6:00 PM</span><br style="box-sizing: border-box\;" />\n<span style="box-sizing: border-box\;">Tue\, Jun 30\, 2020 6:00 PM</span><br style="box-sizing: border-box\;" />\n<span style="box-sizing: border-box\;">Tue\, Jul 7\, 2020 6:00 PM</span><br style="box-sizing: border-box\;" />\n<span style="box-sizing: border-box\;">Tue\, Jul 14\, 2020 6:00 PM</span></small><br />\n<br />\nThis course is geared for those students who are interested in expanding their own creativity with guided assistance.</span></span></p>\n\n<p style="box-sizing: border-box\; margin-top: 0px\; margin-bottom: 1rem\; font-family: Cabin\, sans-serif\; background-color: rgb(248\, 249\, 250)\; color: rgba(0\, 0\, 0\, 0.6)\; font-size: 14px\;"><span style="color:#000000\;"><span style="font-family:verdana\;">Each week&rsquo\;s class or &quot\;session&quot\; features a loosely structured theme for the students to focus on and apply to their own designs and characters.</span></span></p>\n\n<p style="box-sizing: border-box\; margin-top: 0px\; margin-bottom: 1rem\; font-family: Cabin\, sans-serif\; background-color: rgb(248\, 249\, 250)\; color: rgba(0\, 0\, 0\, 0.6)\; font-size: 14px\;"><span style="color:#000000\;"><span style="font-family:verdana\;">This course offers one-on-one analysis and direction from the instructor to help the student fine tune key elements in their own drawings.</span></span></p>\n\n<p style="box-sizing: border-box\; margin-top: 0px\; margin-bottom: 1rem\; font-family: Cabin\, sans-serif\; background-color: rgb(248\, 249\, 250)\; color: rgba(0\, 0\, 0\, 0.6)\; font-size: 14px\;"><span style="color:#000000\;"><span style="font-family:verdana\;">All levels of skills and drawing styles are encouraged.&nbsp\;</span></span></p>\n\n<p style="box-sizing: border-box\; margin-top: 0px\; margin-bottom: 1rem\; font-family: Cabin\, sans-serif\; background-color: rgb(248\, 249\, 250)\; color: rgba(0\, 0\, 0\, 0.6)\; font-size: 14px\;"><span style="color:#000000\;"><span style="font-family:verdana\;">Ages 8 and up</span></span></p>\n
LOCATION:
UID:e.1451.14454
SEQUENCE:3
DTSTAMP:20260425T024749Z
URL:https://business.pickeringtonchamber.com/events/details/freestyle-drawing-ages-8-and-up-summer-session-1-07-07-2020-14454
END:VEVENT

END:VCALENDAR
