BEGIN:VCALENDAR
VERSION:2.0
PRODID:-//ChamberMaster//Event Calendar 2.0//EN
METHOD:PUBLISH
X-PUBLISHED-TTL:P3D
REFRESH-INTERVAL:P3D
CALSCALE:GREGORIAN
BEGIN:VEVENT
DTSTART:20211211T130000Z
DTEND:20211211T140000Z
X-MICROSOFT-CDO-ALLDAYEVENT:FALSE
SUMMARY:FREE Yoga with Darlene Kuzmic!
DESCRIPTION:FREE Yoga Class\n\nWhat: One hour of flow yoga. We will continue to collect cash and food for the Pickerington food pantry\, as well as used eyeglasses and used medicine bottles\, red and blue\, for the Pickerington Lions Club. Please bring your own mat and water bottle.\n\nWhen: 8am every Saturday from October 1 through December 31\, 2021\n\nWhere: Pickerington Nazarene Church\, (Pick Naz) 11775 Pickerington Road\, Pickerington\, Ohio\, 43147 On November 20\, ONLY\, we will be at Epiphany Lutheran Church\, preschool entry\, 268 Hill Road North\, Pickerington\, OH 43147 because Pickerington Nazarene Church has a conflict on scheduled activities in the area we usually use for yoga then returning to Pickerington Nazarene through the end of the year. We will NOT have class Thanksgiving\, Christmas\, or New Years weekends (Saturday\, November 27\, Saturday\, December 25\, 2021\, and January 1\, 2022). Then we will have class at Epiphany Lutheran from January 8 through February 26\, 2022.
X-ALT-DESC;FMTTYPE=text/html:<h4 style="font-family: &quot\;Libre Franklin&quot\;\, sans-serif\; box-sizing: inherit\; margin: 0px 0px 0.8em\; padding: 0px\; font-size: 1.25em\; font-weight: 600\; color: rgb(54\, 54\, 54)\; line-height: 1.125\;">FREE Yoga Class</h4>\n\n<p style="font-family: &quot\;Libre Franklin&quot\;\, sans-serif\; box-sizing: inherit\; margin: 0px 0px 1em\; padding: 0px\; font-size: 16px\;"><b style="box-sizing: inherit\;">What:&nbsp\;</b>One hour of flow yoga. We will continue to collect cash and food for the Pickerington food pantry\, as well as used eyeglasses and used medicine bottles\, red and blue\, for the Pickerington Lions Club. Please bring your own mat and water bottle.</p>\n\n<p style="font-family: &quot\;Libre Franklin&quot\;\, sans-serif\; box-sizing: inherit\; margin: 0px 0px 1em\; padding: 0px\; font-size: 16px\;"><b style="box-sizing: inherit\;">When:&nbsp\;</b>8am every Saturday from October 1 through December 31\, 2021</p>\n\n<p style="font-family: &quot\;Libre Franklin&quot\;\, sans-serif\; box-sizing: inherit\; margin: 0px\; padding: 0px\; font-size: 16px\;"><b style="box-sizing: inherit\;">Where:&nbsp\;</b>Pickerington Nazarene Church\, (Pick Naz) 11775 Pickerington Road\, Pickerington\, Ohio\, 43147 On November 20\, ONLY\, we will be at Epiphany Lutheran Church\, preschool entry\, 268 Hill Road North\, Pickerington\, OH 43147 because Pickerington Nazarene Church has a conflict on scheduled activities in the area we usually use for yoga then returning to Pickerington Nazarene through the end of the year. We will NOT have class Thanksgiving\, Christmas\, or New Years weekends (Saturday\, November 27\, Saturday\, December 25\, 2021\, and January 1\, 2022). Then we will have class at Epiphany Lutheran from January 8 through February 26\, 2022.</p>\n
LOCATION:See event description
UID:e.1451.15514
SEQUENCE:3
DTSTAMP:20260424T000203Z
URL:https://business.pickeringtonchamber.com/events/details/free-yoga-with-darlene-kuzmic-12-11-2021-15514
END:VEVENT

END:VCALENDAR
