BEGIN:VCALENDAR
VERSION:2.0
PRODID:-//ChamberMaster//Event Calendar 2.0//EN
METHOD:PUBLISH
X-PUBLISHED-TTL:P3D
REFRESH-INTERVAL:P3D
CALSCALE:GREGORIAN
BEGIN:VEVENT
DTSTART:20191130T130000Z
DTEND:20191130T140000Z
X-MICROSOFT-CDO-ALLDAYEVENT:FALSE
SUMMARY:Free Yoga with Darlene
DESCRIPTION:Join us every Saturday morning for FREE Yoga!\n\n\n	Everyone welcome. All ages\, all abilities. \n	No Charge! Food pantry or used eye glasses donations are encouraged\, benefiting the Pickerington Food Pantry and the Pickerington Lion?s Club.\n\n\nBrought to you by:\n\nDarlene Kuzmic\n\ndarlene@teamkuzmic.com\n\nc. 614-531-2050\n\nwww.teamkuzmic.com
X-ALT-DESC;FMTTYPE=text/html:<h1 class="entry-title" style="box-sizing: inherit\; font-size: 1.625rem\; margin: 0px 0px 0.25em\; clear: both\; line-height: 1.4\; padding: 0px\; font-weight: 300\; color: rgb(51\, 51\, 51)\; font-family: &quot\;Libre Franklin&quot\;\, &quot\;Helvetica Neue&quot\;\, helvetica\, arial\, sans-serif\; background-color: rgb(255\, 255\, 255)\;">Join us every Saturday morning for FREE Yoga!</h1>\n\n<ul style="box-sizing: inherit\; margin: 0px 0px 1.5em\; padding: 0px\; list-style-position: initial\; list-style-image: initial\; color: rgb(51\, 51\, 51)\; font-family: &quot\;Libre Franklin&quot\;\, &quot\;Helvetica Neue&quot\;\, helvetica\, arial\, sans-serif\; font-size: 16px\; background-color: rgb(255\, 255\, 255)\;">\n	<li style="box-sizing: inherit\;">Everyone welcome. All ages\, all abilities.&nbsp\;</li>\n	<li style="box-sizing: inherit\;">No Charge! Food pantry or used eye glasses donations are encouraged\, benefiting the&nbsp\;<a href="http://pcmafoodpantry.org/" style="box-sizing: inherit\; background-color: transparent\; color: rgb(34\, 34\, 34)\; text-decoration-line: none\; box-shadow: rgb(15\, 15\, 15) 0px -1px 0px inset\; transition: color 80ms ease-in 0s\, box-shadow 130ms ease-in-out 0s\, -webkit-box-shadow 130ms ease-in-out 0s\;">Pickerington Food Pantry</a>&nbsp\;and the&nbsp\;<a href="http://www.e-clubhouse.org/sites/pickeringtonoh/" style="box-sizing: inherit\; background-color: transparent\; color: rgb(34\, 34\, 34)\; text-decoration-line: none\; box-shadow: rgb(15\, 15\, 15) 0px -1px 0px inset\; transition: color 80ms ease-in 0s\, box-shadow 130ms ease-in-out 0s\, -webkit-box-shadow 130ms ease-in-out 0s\;">Pickerington Lion?s Club</a>.</li>\n</ul>\n\n<p style="box-sizing: inherit\; margin: 0px 0px 1.5em\; padding: 0px\; color: rgb(51\, 51\, 51)\; font-family: &quot\;Libre Franklin&quot\;\, &quot\;Helvetica Neue&quot\;\, helvetica\, arial\, sans-serif\; font-size: 16px\; background-color: rgb(255\, 255\, 255)\;">Brought to you by:<br style="box-sizing: inherit\;" />\nDarlene Kuzmic<br style="box-sizing: inherit\;" />\n<a href="mailto:darlene@teamkuzmic.com" rel="noreferrer noopener" style="box-sizing: inherit\; background-color: transparent\; color: rgb(34\, 34\, 34)\; text-decoration-line: none\; box-shadow: rgb(15\, 15\, 15) 0px -1px 0px inset\; transition: color 80ms ease-in 0s\, box-shadow 130ms ease-in-out 0s\, -webkit-box-shadow 130ms ease-in-out 0s\;" target="_blank">darlene@teamkuzmic.com</a><br style="box-sizing: inherit\;" />\nc. 614-531-2050<br style="box-sizing: inherit\;" />\n<a href="http://www.teamkuzmic.com/" rel="noreferrer noopener" style="box-sizing: inherit\; background-color: transparent\; color: rgb(34\, 34\, 34)\; text-decoration-line: none\; box-shadow: rgb(15\, 15\, 15) 0px -1px 0px inset\; transition: color 80ms ease-in 0s\, box-shadow 130ms ease-in-out 0s\, -webkit-box-shadow 130ms ease-in-out 0s\;" target="_blank">www.teamkuzmic.com</a></p>\n
LOCATION:Pickerington Nazarene Church 11775 Pickerington Road Pickerington\, OH 43147
UID:e.1451.13627
SEQUENCE:3
DTSTAMP:20260425T155757Z
URL:https://business.pickeringtonchamber.com/events/details/free-yoga-with-darlene-11-30-2019-13627
END:VEVENT

END:VCALENDAR
