BEGIN:VCALENDAR
VERSION:2.0
PRODID:-//ChamberMaster//Event Calendar 2.0//EN
METHOD:PUBLISH
X-PUBLISHED-TTL:P3D
REFRESH-INTERVAL:P3D
CALSCALE:GREGORIAN
BEGIN:VEVENT
DTSTART:20200325T160000Z
DTEND:20200325T170000Z
X-MICROSOFT-CDO-ALLDAYEVENT:FALSE
SUMMARY:FREE Webinars to Help YOU!
DESCRIPTION:SBA Disaster Loan (2 Sessions Available)\n\nHosted by Buji ActionCOACH\n\nClick the date(s) to register for your spot!\n\n \n\nTuesday\, March 24\n\n12:30 p.m.\n\n \n\nThursday\, March 26\n\n12:30 p.m.\n\n \n\nView the recorded video from last week here.\n\n \n\nGrowthLab - How Your Local Business Can Innovate\, Survive and Thrive\n\nHosted by LOCALiQ\n\n \n\nWednesday\, March 25\n\n12:00 p.m.\n\n \n\nTime to Rally - Navigating Your Business During a Crisis\n\nHosted by the Dispatch\n\n \n\nFriday\, March 27\n\n9:00 a.m. or 3 p.m.\n\n \n\n"How to Expand Your Business Virtually During a Global Crisis"\n\nHosted by one of our Business Summit Speakers\, Shaniece Wise\n\n \n\nTuesday\, March 31\n\n7:00 p.m.\n\n \n\n"How to Save Your Small Business"\n\nHosted by Matt Yerkes with Cultivate\n\n \n\nTuesday\, April 14\n\n10:00 a.m.
X-ALT-DESC;FMTTYPE=text/html:<strong><u><span style="color:#0F87C9\;"><span style="font-size:13.5pt\;">SBA Disaster Loan (2 Sessions Available)</span></span></u></strong><br />\n<strong><span style="color:#0F87C9\;"><span style="font-size:13.5pt\;">Hosted by Buji ActionCOACH</span></span></strong><br />\n<strong><span style="color:#0F87C9\;"><span style="font-size:13.5pt\;">Click the date(s) to register for your spot!</span></span></strong><br />\n&nbsp\;<br />\n<strong><span style="color:#0F87C9\;"><span style="font-size:13.5pt\;"><a href="http://r20.rs6.net/tn.jsp?f=001CmvUGG-9aPP_Z7URaYPpMlsi3rySzyBGn0sTAIOayY6dNRb_dN8zj3MOVNULDx4VF3exWBThWzyVfcOJllizeFdqYMpGGO1u_J36V0LBsZla34wSNSv9hg8HFxdT5yIR7oZGjuXAQeRjFX7I-9pZhw_GKYTxbILQac8ma4govc0o38iD8apWH0SjWgNsN4IKyELnMvY_CB3vqp72NNOSXco_6q5Dz8pLuveSxxDCsMsqy2ul6PF6i7JWVxvz80dgmeB-_dlaOAt8aF3HztzpiBEEIt-Ncw4h067qHREu5XOEnazIkN7W65XXIUNwCpfTV4p9EGat-YVjXa4rhXP7Sw==&amp\;c=0xbbg-OBD9PzgYpgiSxYZBR_wsj06GGnuQUXqrmhHueS7UbCS6aqfw==&amp\;ch=5o95dz8yHg1gKpnNS0dnElLLt3Wz37SuT5b_cDBgH2p4RCUCdJqdrA==" target="_blank"><span style="font-weight:normal\;">Tuesday\, March 24</span></a></span></span></strong><br />\n<strong><span style="color:#0F87C9\;"><span style="font-size:13.5pt\;">12:30 p.m.</span></span></strong><br />\n&nbsp\;<br />\n<strong><span style="color:#0F87C9\;"><span style="font-size:13.5pt\;"><a href="http://r20.rs6.net/tn.jsp?f=001CmvUGG-9aPP_Z7URaYPpMlsi3rySzyBGn0sTAIOayY6dNRb_dN8zj3MOVNULDx4Vom0ye6nvrY5x4X6Ozs_xkPSQhhM6tenY51fRpbi2l_aWzS1oleWUsrbjPvBJQnqDr-yU7GflaKLsqfXkMWuYOA2v3_uyGlEjn_HSYIf-aIlzrNTuVOymUiVBGFt6VfyhQEXdm9mzlc3P6tKiEahSq8cmvZjnLKQkN0vcM8_lkqsoSzRf1rbApylX6EYoj8YvvFswL-LRBS7vCrxvp8wI72QQ9KFJ7Y9aat0hI7iKpSEyHbrCx4AzVgDbGRXPsnMd029Wai7veKXcNTduMXZhjA==&amp\;c=0xbbg-OBD9PzgYpgiSxYZBR_wsj06GGnuQUXqrmhHueS7UbCS6aqfw==&amp\;ch=5o95dz8yHg1gKpnNS0dnElLLt3Wz37SuT5b_cDBgH2p4RCUCdJqdrA==" target="_blank"><span style="font-weight:normal\;">Thursday\, March 26</span></a></span></span></strong><br />\n<strong><span style="color:#0F87C9\;"><span style="font-size:13.5pt\;">12:30 p.m.</span></span></strong><br />\n&nbsp\;<br />\n<strong><span style="color:#0F87C9\;"><span style="font-size:13.5pt\;"><a href="http://r20.rs6.net/tn.jsp?f=001CmvUGG-9aPP_Z7URaYPpMlsi3rySzyBGn0sTAIOayY6dNRb_dN8zj3MOVNULDx4V0b9yYWInEM7_LO44PhiOHxDYvTBzJsIA_HZoUFjwc5tPaHdlM46WHxTBJGtPse5LGYm1RCE0XIXH3qI951uyvG0PO_ezaSbn51ixAgC2Qbn6nHa-2qmePVDvaB56B6rRNlx1Z5kDV2Hmu7B6U0zgOUNpgadc95qsviiNrje6o7o4nQqV7RWQCPPwG42Qgd_UrW2TAyYAtalp5HwYSRPqgZ9pWskbX5Ke55kEG6L5H-3mv5p22au6egRSJCTbAS04&amp\;c=0xbbg-OBD9PzgYpgiSxYZBR_wsj06GGnuQUXqrmhHueS7UbCS6aqfw==&amp\;ch=5o95dz8yHg1gKpnNS0dnElLLt3Wz37SuT5b_cDBgH2p4RCUCdJqdrA==" target="_blank"><span style="font-weight:normal\;">View the recorded video from last week here.</span></a></span></span></strong><br />\n&nbsp\;<br />\n<strong><u><span style="color:#0F87C9\;"><span style="font-size:13.5pt\;">GrowthLab - How Your Local Business Can Innovate\, Survive and Thrive</span></span></u></strong><br />\n<strong><span style="color:#0F87C9\;"><span style="font-size:13.5pt\;">Hosted by LOCALiQ</span></span></strong><br />\n&nbsp\;<br />\n<strong><span style="color:#0F87C9\;"><span style="font-size:13.5pt\;"><a href="http://r20.rs6.net/tn.jsp?f=001CmvUGG-9aPP_Z7URaYPpMlsi3rySzyBGn0sTAIOayY6dNRb_dN8zj3MOVNULDx4Voe1HBG_a0_yU6122wRPYKvw1EVEcueYXwM5Uajab-aGNlElcvOBhXbQ5Jo-PkOXb_KNU5qXEi0RuU3x71D8cXsL5ZP-Sxc1kG4b012_gEle6Dl2QQ8e9TdcejMOfGx43bknMQRNV01rfmH_Ik4_f5247dp-jn2KMiBbwieFtKrzTnwQ_qAMqtu2lUzEgN2bpEsqnb_wnfVPeZSAyEZv3H6exNfgJzkMVHm5LYm3fsUOYRR8iO6mzBQ==&amp\;c=0xbbg-OBD9PzgYpgiSxYZBR_wsj06GGnuQUXqrmhHueS7UbCS6aqfw==&amp\;ch=5o95dz8yHg1gKpnNS0dnElLLt3Wz37SuT5b_cDBgH2p4RCUCdJqdrA==" target="_blank"><span style="font-weight:normal\;">Wednesday\, March 25</span></a></span></span></strong><br />\n<strong><span style="color:#0F87C9\;"><span style="font-size:13.5pt\;">12:00 p.m.</span></span></strong><br />\n&nbsp\;<br />\n<strong><u><span style="color:#0F87C9\;"><span style="font-size:13.5pt\;">Time to Rally - Navigating Your Business During a Crisis</span></span></u></strong><br />\n<strong><span style="color:#0F87C9\;"><span style="font-size:13.5pt\;">Hosted by the Dispatch</span></span></strong><br />\n&nbsp\;<br />\n<strong><span style="color:#0F87C9\;"><span style="font-size:13.5pt\;"><a href="http://r20.rs6.net/tn.jsp?f=001CmvUGG-9aPP_Z7URaYPpMlsi3rySzyBGn0sTAIOayY6dNRb_dN8zj3MOVNULDx4VJAVjhV_Hj1C-zfvRdX1L6njEY3EdtqYbTYhgo6Opr2PIpSQpkNMqT-I9EoD_5mEZcPbXcF_e-UZE2laTocbtSdrInMF3EJ3FMTyptnpu7WJSXbze_OvDCxkGhwU453RC1ndomADZ_h2UCRVkDcIyTg==&amp\;c=0xbbg-OBD9PzgYpgiSxYZBR_wsj06GGnuQUXqrmhHueS7UbCS6aqfw==&amp\;ch=5o95dz8yHg1gKpnNS0dnElLLt3Wz37SuT5b_cDBgH2p4RCUCdJqdrA==" target="_blank"><span style="font-weight:normal\;">Friday\, March 27</span></a></span></span></strong><br />\n<strong><span style="color:#0F87C9\;"><span style="font-size:13.5pt\;">9:00 a.m. or 3 p.m.</span></span></strong><br />\n&nbsp\;<br />\n<strong><u><span style="color:#5E81CA\;"><span style="font-size:13.5pt\;">&quot\;How to Expand Your Business Virtually During a Global Crisis&quot\;</span></span></u></strong><br />\n<strong><span style="color:#0F87C9\;"><span style="font-size:13.5pt\;">Hosted by one of our Business Summit Speakers\, Shaniece Wise</span></span></strong><br />\n&nbsp\;<br />\n<strong><span style="color:#0F87C9\;"><span style="font-size:13.5pt\;"><a href="http://r20.rs6.net/tn.jsp?f=001CmvUGG-9aPP_Z7URaYPpMlsi3rySzyBGn0sTAIOayY6dNRb_dN8zj3MOVNULDx4V4xG79xAy04a9YNbzRhsWMjfUxrrzllykDHdIOBeAuAhj9dfo_wp68Tp9Z1IG3lpj2vn7_mZMM_iJFNRjo709wrVPGU7HbsF-3w7_aio_0ZzTsEu7lhrVHCgMV_M2nVUvTXonZLKPe44hY3sXQ9dOdx7u82fpkxtKLcXN5BHC2k39tqRVzZJMHFNIeRb5Gu-GLs6XgWZnINQ9Fm-u1u2JcA==&amp\;c=0xbbg-OBD9PzgYpgiSxYZBR_wsj06GGnuQUXqrmhHueS7UbCS6aqfw==&amp\;ch=5o95dz8yHg1gKpnNS0dnElLLt3Wz37SuT5b_cDBgH2p4RCUCdJqdrA==" target="_blank"><span style="font-weight:normal\;">Tuesday\, March 31</span></a></span></span></strong><br />\n<strong><span style="color:#0F87C9\;"><span style="font-size:13.5pt\;">7:00 p.m.</span></span></strong><br />\n&nbsp\;<br />\n<strong><u><span style="color:#0F87C9\;"><span style="font-size:13.5pt\;">&quot\;How to Save Your Small Business&quot\;</span></span></u></strong><br />\n<strong><span style="color:#0F87C9\;"><span style="font-size:13.5pt\;">Hosted by Matt Yerkes with Cultivate</span></span></strong><br />\n&nbsp\;<br />\n<strong><span style="color:#0F87C9\;"><span style="font-size:13.5pt\;"><a href="http://r20.rs6.net/tn.jsp?f=001CmvUGG-9aPP_Z7URaYPpMlsi3rySzyBGn0sTAIOayY6dNRb_dN8zj3MOVNULDx4VX4kjHJJ8iaQV_MLDMlqBcxrmjqrZ8lBOUcfcut6QBCDtcbIvObS9UylNdrHohF58O6Ik0l7ctQ63vCk3YNCe2quUbN3G7AdgAODhK-Q7rHOXnoqBemJz4ntUr902ALbAGK0XXCK6DaRkbQAveJvLduVlTLAjhGHdqXGWx2uHl6g=&amp\;c=0xbbg-OBD9PzgYpgiSxYZBR_wsj06GGnuQUXqrmhHueS7UbCS6aqfw==&amp\;ch=5o95dz8yHg1gKpnNS0dnElLLt3Wz37SuT5b_cDBgH2p4RCUCdJqdrA==" target="_blank"><span style="font-weight:normal\;">Tuesday\, April 14</span></a></span></span></strong><br />\n<strong><span style="color:#0F87C9\;"><span style="font-family:calibri\,sans-serif\;"><span style="font-size:13.5pt\;">10:00 a.m.</span></span></span></strong>
LOCATION:
UID:e.1451.14298
SEQUENCE:3
DTSTAMP:20260425T104634Z
URL:https://business.pickeringtonchamber.com/events/details/free-webinars-to-help-you-14298
END:VEVENT

END:VCALENDAR
