BEGIN:VCALENDAR
VERSION:2.0
PRODID:-//ChamberMaster//Event Calendar 2.0//EN
METHOD:PUBLISH
X-PUBLISHED-TTL:P3D
REFRESH-INTERVAL:P3D
CALSCALE:GREGORIAN
BEGIN:VEVENT
DTSTART:20190330T140000Z
DTEND:20190330T160000Z
X-MICROSOFT-CDO-ALLDAYEVENT:FALSE
SUMMARY:Free Dumbo Carnival Party
DESCRIPTION:DUMBO CARNIVAL Free Family Party\n\nJoin us on Saturday and Sunday\, March 30-31 from 10 a.m. to noon for a FREE Dumbo Carnival Party to celebrate the opening of the re-imagined Disney family classic\, Dumbo!\n\nSaturday & Sunday\, March 30-31 \n\n10 a.m. - Noon\n\nActivities will include:\n\n\n	Carnival Games\n	Fun Crafts\n	Prizes\n	Concession Samples\n	And more!\n\n\nStay for the movie! Rated PG. Party admission is free. Movie admission sold separately.
X-ALT-DESC;FMTTYPE=text/html:<h1 style="box-sizing: border-box\; font-family: Oswald\, sans-serif\; text-transform: uppercase\; line-height: 36px\; font-weight: normal\; color: rgb(139\, 14\, 4)\; margin: 0px\; font-size: 2rem\; font-variant-ligatures: no-common-ligatures\; background-color: rgb(255\, 255\, 255)\;">DUMBO CARNIVAL&nbsp\;<span class="headline-accent" style="box-sizing: border-box\; font-family: signpaintermedium\, cursive\; font-size: 2.65rem\; padding: 0px 6px\; margin-right: 4px\; word-spacing: -4px\; text-transform: none\; color: rgb(75\, 117\, 138)\; position: relative\; z-index: 999\;">Free Family Party</span></h1>\n\n<p style="box-sizing: border-box\; margin-top: 8px\; line-height: 1.8\; font-size: 0.85rem\; color: rgb(51\, 51\, 51)\; font-family: &quot\;Open Sans&quot\;\, sans-serif\; font-variant-ligatures: no-common-ligatures\; background-color: rgb(255\, 255\, 255)\;">Join us&nbsp\;on Saturday and Sunday\, March 30-31 from 10 a.m. to noon for a FREE Dumbo Carnival Party to celebrate the opening of&nbsp\;the re-imagined Disney family classic\,&nbsp\;<em style="box-sizing: border-box\;">Dumbo!</em></p>\n\n<h2 style="box-sizing: border-box\; color: rgb(139\, 14\, 4)\; font-family: Oswald\, sans-serif\; font-weight: normal\; margin: 0px\; line-height: 1.2\; font-size: 1.5rem\; font-variant-ligatures: no-common-ligatures\; background-color: rgb(255\, 255\, 255)\;">Saturday &amp\; Sunday\, March 30-31&nbsp\;</h2>\n\n<h2 style="box-sizing: border-box\; color: rgb(139\, 14\, 4)\; font-family: Oswald\, sans-serif\; font-weight: normal\; margin: 0px\; line-height: 1.2\; font-size: 1.5rem\; font-variant-ligatures: no-common-ligatures\; background-color: rgb(255\, 255\, 255)\;">10 a.m. - Noon</h2>\n\n<p style="box-sizing: border-box\; margin-top: 8px\; line-height: 1.8\; font-size: 0.85rem\; color: rgb(51\, 51\, 51)\; font-family: &quot\;Open Sans&quot\;\, sans-serif\; font-variant-ligatures: no-common-ligatures\; background-color: rgb(255\, 255\, 255)\;">Activities will include:</p>\n\n<ul style="box-sizing: border-box\; list-style-type: none\; margin: 0px\; padding: 0px\; font-size: 0.85rem\; color: rgb(51\, 51\, 51)\; font-family: &quot\;Open Sans&quot\;\, sans-serif\; font-variant-ligatures: no-common-ligatures\; background-color: rgb(255\, 255\, 255)\;">\n	<li style="box-sizing: border-box\; list-style-type: disc\; margin-left: 50px\;">Carnival Games</li>\n	<li style="box-sizing: border-box\; list-style-type: disc\; margin-left: 50px\;">Fun Crafts</li>\n	<li style="box-sizing: border-box\; list-style-type: disc\; margin-left: 50px\;">Prizes</li>\n	<li style="box-sizing: border-box\; list-style-type: disc\; margin-left: 50px\;">Concession Samples</li>\n	<li style="box-sizing: border-box\; list-style-type: disc\; margin-left: 50px\;"><em style="box-sizing: border-box\;">And more!</em></li>\n</ul>\n\n<p style="box-sizing: border-box\; margin-top: 8px\; line-height: 1.8\; font-size: 0.85rem\; color: rgb(51\, 51\, 51)\; font-family: &quot\;Open Sans&quot\;\, sans-serif\; font-variant-ligatures: no-common-ligatures\; background-color: rgb(255\, 255\, 255)\;"><strong style="box-sizing: border-box\;">Stay for the movie! Rated PG. Party admission is free. Movie admission sold separately.</strong></p>\n
LOCATION:Marcus Theaters 1776 Hill Rd. N Pickerington\, OH 43147
UID:e.1451.12849
SEQUENCE:3
DTSTAMP:20260426T040836Z
URL:https://business.pickeringtonchamber.com/events/details/free-dumbo-carnival-party-12849
END:VEVENT

END:VCALENDAR
