BEGIN:VCALENDAR
VERSION:2.0
PRODID:-//ChamberMaster//Event Calendar 2.0//EN
METHOD:PUBLISH
X-PUBLISHED-TTL:P3D
REFRESH-INTERVAL:P3D
CALSCALE:GREGORIAN
BEGIN:VEVENT
DTSTART:20190511T140000Z
DTEND:20190511T163000Z
X-MICROSOFT-CDO-ALLDAYEVENT:FALSE
SUMMARY:Floral Arrangement + Centerpiece Boxes
DESCRIPTION:Join us at AR Workshop for a DIY class to make an 8 inch or 16 inch centerpiece box and learn how to make a beautiful floral arrangement for your custom centerpiece box! In the workshop\, you will have the opportunity to customize your project with your choice of designer paints and (non-toxic!) stain colors. BYO wine or beer to sip and enjoy during the workshop. Get rewarded with our DIY RewARds program!  Register for five workshops\, then cash in your DIY RewARds towards a future workshop!\n\n\n\nHOW TO REGISTER: Clink on website link above.
X-ALT-DESC;FMTTYPE=text/html:Join us at&nbsp\;AR Workshop&nbsp\;for a DIY class to make an 8 inch or 16 inch centerpiece box and learn how to make a beautiful floral arrangement for your custom centerpiece box!&nbsp\;In the workshop\, you will have the opportunity to customize your project with your choice of designer paints and (non-toxic!) stain colors. BYO wine or beer to sip and enjoy during the workshop. Get rewarded with our DIY RewARds program!&nbsp\;&nbsp\;Register for five workshops\, then cash in your DIY RewARds towards a future workshop!<br />\n<br background-color:="" font-size:="" open="" />\nHOW TO REGISTER: Clink on website link above.&nbsp\;
LOCATION:1039 HILL RD N. PICKERINGTON\, OH 43147 PHONE: 614-429-5625
UID:e.1451.12983
SEQUENCE:3
DTSTAMP:20260426T010716Z
URL:https://business.pickeringtonchamber.com/events/details/floral-arrangement-centerpiece-boxes-12983
END:VEVENT

END:VCALENDAR
