BEGIN:VCALENDAR
VERSION:2.0
PRODID:-//ChamberMaster//Event Calendar 2.0//EN
METHOD:PUBLISH
X-PUBLISHED-TTL:P3D
REFRESH-INTERVAL:P3D
CALSCALE:GREGORIAN
BEGIN:VEVENT
DTSTART:20200722T150000Z
DTEND:20200722T160000Z
X-MICROSOFT-CDO-ALLDAYEVENT:FALSE
SUMMARY:Five Ways to Pay for Your Child's College
DESCRIPTION:The average cost for a bachelor degree from a public school is now over $100\,000! With over 70% of students taking student loans to go to college and the amount of loan debt sitting at a little over $1.5 trillion for federal loans and about $119 billion from private\, something needs to change.\n\nBut the college space can be confusing\, scary and overwhelming for both the parents and the students. You yourself are probably very familiar with this phrase\, "I don't even know where to begin!"\n\nThat's why we're here! We are going to walk through five different ways to help your student go to college\, graduate and start their career off with no student debt. And yes\, it is 100% possible!\n\nBe sure to join us for this FREE VIRTUAL event where we provide some great resources to you and your child and start planning for your child's bright future! We will also have time for questions at the end from our speaker who brings years of experience in higher education and career tech.
X-ALT-DESC;FMTTYPE=text/html:<p><br />\nThe average cost for a bachelor degree from a public school is now over $100\,000! With over 70% of students taking student loans to go to college and the amount of loan debt sitting at a little over $1.5 trillion for federal loans and about $119 billion from private\, something needs to change.</p>\n\n<p>But the college space can be confusing\, scary and overwhelming for both the parents and the students. You yourself are probably very familiar with this phrase\, &quot\;I don&#39\;t even know where to begin!&quot\;</p>\n\n<p>That&#39\;s why we&#39\;re here! We are going to walk through five different ways to help your student go to college\, graduate and start their career off with no student debt. And yes\, it is 100% possible!</p>\n\n<p>Be sure to join us for this FREE VIRTUAL event where we provide some great resources to you and your child and start planning for your child&#39\;s bright future! We will also have time for questions at the end from our speaker who brings years of experience in higher education and career tech.</p>\n
LOCATION:Virtual Event The zoom link will be sent out 24 hours before the start of the event and again an hour prior. Register here: https://www.eventbrite.com/e/five-ways-to-pay-for-your-childs-college-tickets-112550162566
UID:e.1451.14530
SEQUENCE:3
DTSTAMP:20260425T024616Z
URL:https://business.pickeringtonchamber.com/events/details/five-ways-to-pay-for-your-child-s-college-14530
END:VEVENT

END:VCALENDAR
