BEGIN:VCALENDAR
VERSION:2.0
PRODID:-//ChamberMaster//Event Calendar 2.0//EN
METHOD:PUBLISH
X-PUBLISHED-TTL:P3D
REFRESH-INTERVAL:P3D
CALSCALE:GREGORIAN
BEGIN:VEVENT
DTSTART;VALUE=DATE:20201201
DTEND;VALUE=DATE:20201202
TRANSP:TRANSPARENT
X-MICROSOFT-CDO-ALLDAYEVENT:TRUE
SUMMARY:First Drafts Book Club - You Had Me at Hola
DESCRIPTION:We may not be able to enjoy Combustion's atmosphere\, but we we can still talk books from the comfort of our own homes!\n\nFirst Drafts focuses on books with buzz: maybe it's that new book everyone is talking about (you just haven't snagged a copy yet)\, or a debut book hidden on the library's shelves (it's okay: the librarians know it's awesome)\, or even the forgotten early books of authors who have since hit the big time (can you name John Green's first book?).\n\nFor a complete list of upcoming book selections and dates\, click here to view the Library's Book Clubs page.\n\nJoin Zoom Meeting\n\nhttps://us04web.zoom.us/j/75197640562?pwd=Q2VoSjFrUGxuTDVvbkVLSnZMK01LQT09\n\nMeeting ID: 751 9764 0562\n\nPasscode: 4wmbXs
X-ALT-DESC;FMTTYPE=text/html:<p>We may not be able to enjoy Combustion&#39\;s atmosphere\, but we we can still talk books from the comfort of our own homes!</p>\n\n<p>First Drafts focuses on books with buzz: maybe it&rsquo\;s that new book everyone is talking about (you just haven&rsquo\;t snagged a copy yet)\, or a debut book hidden on the library&rsquo\;s shelves (it&rsquo\;s okay: the librarians know it&rsquo\;s awesome)\, or even the forgotten early books of authors who have since hit the big time (can you name John Green&rsquo\;s first book?).</p>\n\n<p>For a complete list of upcoming book selections and dates\, click here to view the Library&#39\;s Book Clubs page.</p>\n\n<p>Join Zoom Meeting<br />\n<a href="https://us04web.zoom.us/j/75197640562?pwd=Q2VoSjFrUGxuTDVvbkVLSnZMK01LQT09" style="box-sizing: border-box\; background-color: transparent\; color: rgb(0\, 178\, 90)\; text-decoration-line: none\; transition: background 200ms linear 0s\, color 200ms linear 0s\, border 200ms linear 0s\;">https://us04web.zoom.us/j/75197640562?pwd=Q2VoSjFrUGxuTDVvbkVLSnZMK01LQT09</a></p>\n\n<p>Meeting ID: 751 9764 0562<br />\nPasscode: 4wmbXs</p>\n
LOCATION:
UID:e.1451.14826
SEQUENCE:3
DTSTAMP:20260424T190900Z
URL:https://business.pickeringtonchamber.com/events/details/first-drafts-book-club-you-had-me-at-hola-14826
END:VEVENT

END:VCALENDAR
