BEGIN:VCALENDAR
VERSION:2.0
PRODID:-//ChamberMaster//Event Calendar 2.0//EN
METHOD:PUBLISH
X-PUBLISHED-TTL:P3D
REFRESH-INTERVAL:P3D
CALSCALE:GREGORIAN
BEGIN:VEVENT
DTSTART:20220602T220000Z
DTEND:20220603T000000Z
X-MICROSOFT-CDO-ALLDAYEVENT:FALSE
SUMMARY:Fire Show
DESCRIPTION:ABBINGTON ASSISTED LIVING PRESENTS "PYROTECHNIKA" Performance will feature an essence of cultures from Istanbul\, Algiers\, Egypt\, and Jordan. RSVP- Please
X-ALT-DESC;FMTTYPE=text/html:ABBINGTON ASSISTED LIVING PRESENTS &ldquo\;PYROTECHNIKA&rdquo\; Performance will feature an essence of cultures from Istanbul\, Algiers\, Egypt\, and Jordan. RSVP- Please
LOCATION:Abbington Assisted Living\, 9480 Blacklick Eastern Road\, Pickerington\, Ohio
UID:e.1451.15755
SEQUENCE:3
DTSTAMP:20260423T142957Z
URL:https://business.pickeringtonchamber.com/events/details/fire-show-15755
END:VEVENT

END:VCALENDAR
