BEGIN:VCALENDAR
VERSION:2.0
PRODID:-//ChamberMaster//Event Calendar 2.0//EN
METHOD:PUBLISH
X-PUBLISHED-TTL:P3D
REFRESH-INTERVAL:P3D
CALSCALE:GREGORIAN
BEGIN:VEVENT
DTSTART:20220203T150000Z
DTEND:20220203T160000Z
X-MICROSOFT-CDO-ALLDAYEVENT:FALSE
SUMMARY:FINANCING your REAL ESTATE investment property in 2022
DESCRIPTION:PLEASE CONTACT ME for a link to the webinar.\n\nIn this seminar\, Chris Ramsey\, Real Estate Lender from Merchants National Bank will talk about:\n\n* General terms for a traditional investor property purchase or refinance loans\n\n* Cash-Out Refinance\n\n* Construction Loan\n\n* Time Frames for Loan Process\n\n* Information Needed by Bank for Investor Property Loan request.
X-ALT-DESC;FMTTYPE=text/html:<div>PLEASE CONTACT ME for a link to the webinar.</div>\n\n<div>In this seminar\, Chris&nbsp\;Ramsey\, Real Estate Lender from Merchants National Bank will talk about:</div>\n\n<div>* General terms for a traditional investor property purchase or refinance loans</div>\n\n<div>* Cash-Out Refinance</div>\n\n<div>* Construction Loan</div>\n\n<div>* Time Frames for Loan Process</div>\n\n<div>* Information Needed by Bank for Investor Property Loan request.</div>\n
LOCATION:CONTACT ME FOR A ZOOM LINK PanamaREconnector@gmail.com or text 614-321-5328
UID:e.1451.15741
SEQUENCE:3
DTSTAMP:20260423T222414Z
URL:https://business.pickeringtonchamber.com/events/details/financing-your-real-estate-investment-property-in-2022-15741
END:VEVENT

END:VCALENDAR
