BEGIN:VCALENDAR
VERSION:2.0
PRODID:-//ChamberMaster//Event Calendar 2.0//EN
METHOD:PUBLISH
X-PUBLISHED-TTL:P3D
REFRESH-INTERVAL:P3D
CALSCALE:GREGORIAN
BEGIN:VEVENT
DTSTART:20190629T220000Z
DTEND:20190630T000000Z
X-MICROSOFT-CDO-ALLDAYEVENT:FALSE
SUMMARY:Family Night at the Community Pool
DESCRIPTION:Come out and enjoy an evening of family fun at the Pickerington Community Pool.
X-ALT-DESC;FMTTYPE=text/html:Come out and enjoy an evening of family fun at the Pickerington Community Pool.
LOCATION:Pickerington Community Pool
UID:e.1451.12933
SEQUENCE:3
DTSTAMP:20260426T000259Z
URL:https://business.pickeringtonchamber.com/events/details/family-night-at-the-community-pool-12933
END:VEVENT

END:VCALENDAR
