BEGIN:VCALENDAR
VERSION:2.0
PRODID:-//ChamberMaster//Event Calendar 2.0//EN
METHOD:PUBLISH
X-PUBLISHED-TTL:P3D
REFRESH-INTERVAL:P3D
CALSCALE:GREGORIAN
BEGIN:VEVENT
DTSTART:20190729T140000Z
DTEND:20190801T143000Z
X-MICROSOFT-CDO-ALLDAYEVENT:FALSE
SUMMARY:Family Fun
DESCRIPTION:Explore A Universe of Stories Family Fun! Our summer early literacy classes are geared toward children ages 2-5\, siblings and caregivers welcome. Classes will feature books\, songs\, and rhymes that will make imaginations run wild and prepare young ones for reading.\n\n\n\nNo registration necessary.\n\n\n\nThis is the last week for this program.
X-ALT-DESC;FMTTYPE=text/html:<span style="font-size: 12pt\; line-height: 107%\; font-family: Arial\, sans-serif\; color: windowtext\;">Explore A Universe of Stories Family Fun! Our summer early literacy classes are geared toward children ages 2-5\, siblings and caregivers welcome. Classes will feature books\, songs\, and rhymes that will make imaginations run wild and prepare young ones for reading.<br />\n<br />\nNo registration necessary.<br />\n<br />\nThis is the last week for this program.</span>
LOCATION:Pickerington Public Library 201 Opportunity Way Pickerington\, OH 43147
UID:e.1451.13022
SEQUENCE:3
DTSTAMP:20260425T221651Z
URL:https://business.pickeringtonchamber.com/events/details/family-fun-13022
END:VEVENT

END:VCALENDAR
