BEGIN:VCALENDAR
VERSION:2.0
PRODID:-//ChamberMaster//Event Calendar 2.0//EN
METHOD:PUBLISH
X-PUBLISHED-TTL:P3D
REFRESH-INTERVAL:P3D
CALSCALE:GREGORIAN
BEGIN:VEVENT
DTSTART:20190612T223000Z
DTEND:20190612T230000Z
X-MICROSOFT-CDO-ALLDAYEVENT:FALSE
SUMMARY:Family Dance Party
DESCRIPTION:Show off your moves with 30 minutes of dancing fun: balloons\, bubbles and so much FUN!\n\n\n\nNo registration is required: just show up ready to dance!
X-ALT-DESC;FMTTYPE=text/html:<br />\n<span style="text-transform:none\;"><span style="font-size:12.0pt\;">Show off your moves with 30 minutes of dancing fun: balloons\, bubbles and so much FUN!<br />\n<br />\nNo registration is required: just show up ready to dance! </span></span>
LOCATION:Sycamore Plaza Library 7861 Refugee Road Pickerington\, OH 43147
UID:e.1451.13320
SEQUENCE:3
DTSTAMP:20260426T011824Z
URL:https://business.pickeringtonchamber.com/events/details/family-dance-party-13320
END:VEVENT

END:VCALENDAR
