BEGIN:VCALENDAR
VERSION:2.0
PRODID:-//ChamberMaster//Event Calendar 2.0//EN
METHOD:PUBLISH
X-PUBLISHED-TTL:P3D
REFRESH-INTERVAL:P3D
CALSCALE:GREGORIAN
BEGIN:VEVENT
DTSTART:20190608T120000Z
DTEND:20190608T180000Z
X-MICROSOFT-CDO-ALLDAYEVENT:FALSE
SUMMARY:FAIRHOPE Hospice & Palliative Care\, Inc. Hosts Trash to Treasure Sale
DESCRIPTION:LANCASTER\, Ohio (May 29\, 2019)   FAIRHOPE Hospice & Palliative Care\, Inc. will hold its annual Trash to Treasure Sale on Friday\, June 7 and Saturday\, June 8 at the Fairfield County Fairgrounds to benefit the FAIRHOPE Hospice Memorial Fund. Community members are encouraged to come out and purchase used items that need a new home.\n\n \n\n"At FAIRHOPE\, we accept all patients regardless of their ability to pay\," said Denise Bauer\, FAIRHOPE President/CEO. "When you shop at our Trash to Treasure sale\, your payment goes directly into our Memorial Fund\, which allow us to bring hospice care and comfort to families in need."\n\n \n\nThe Trash to Treasure event will be held from 8 a.m. to 4 p.m.  on Friday and 8 a.m.-2 p.m. on Saturday at the Fairfield County Fairgrounds\, 157 E. Fair Ave. in Lancaster. Items available at the event range from toys and games to common household items.\n\n\n\nFAIRHOPE is currently accepting donations of new or gently used items\, no clothing. If you'd like to donate\, please contact Twylia Summers at 740-475-0657 or tsummers@fairhopehospice.org.\n\n \n\nThey will also have multiple drop off days at the Fairfield County Fairgrounds:\n\n	June 3\, 4 and 6 from 10 a.m. - 4 p.m.\n	June 5 from 10 a.m. - 6 p.m.\n\nTo learn more about FAIRHOPE Hospice & Palliative Care\, visit www.fairhopehospice.org\, or find them on Facebook at www.facebook.com/FairhopeHospice.\n\n \n\nFAIRHOPE Hospice & Palliative Care\, Inc. is a not-for-profit 501(c)(3) organization. FAIRHOPE provides a special kind of care\, embracing compassion and understanding for patients and families.  Offering comfort to those with a serious illness\, FAIRHOPE lends an emotional\, spiritual and physical support to family and friends during a difficult time and after the loss of a loved one.  Grief care is offered to hospice families and community members at no charge.  The FAIRHOPE team of experts is available to help you\, and is proud to be the legacy hospice provider for over 30 years.
X-ALT-DESC;FMTTYPE=text/html:<br />\nLANCASTER\, Ohio (May 29\, 2019) &mdash\; FAIRHOPE Hospice &amp\; Palliative Care\, Inc. will hold its annual Trash to Treasure Sale on Friday\, June 7 and Saturday\, June 8 at the Fairfield County Fairgrounds to benefit the FAIRHOPE Hospice Memorial Fund. Community members are encouraged to come out and purchase used items that need a new home.<br />\n&nbsp\;<br />\n&ldquo\;At FAIRHOPE\, we accept all patients regardless of their ability to pay\,&rdquo\; said Denise Bauer\, FAIRHOPE President/CEO. &ldquo\;When you shop at our Trash to Treasure sale\, your payment goes directly into our Memorial Fund\, which allow us to bring hospice care and comfort to families in need.&rdquo\;<br />\n&nbsp\;<br />\nThe Trash to Treasure event will be held from 8 a.m. to 4 p.m.&nbsp\; on Friday and 8 a.m.-2 p.m. on Saturday at the Fairfield County Fairgrounds\, 157 E. Fair Ave. in Lancaster. Items available at the event range from toys and games to common household items.<br />\n<br />\nFAIRHOPE is currently accepting donations of new or gently used items\, no clothing. If you&rsquo\;d like to donate\, please contact Twylia Summers at 740-475-0657 or <a href="mailto:tsummers@fairhopehospice.org">tsummers@fairhopehospice.org</a>.<br />\n&nbsp\;<br />\nThey will also have multiple drop off days at the Fairfield County Fairgrounds:\n<ul>\n	<li style="margin-left:0in\;">June 3\, 4 and 6 from 10 a.m. - 4 p.m.</li>\n	<li style="margin-left:0in\;">June 5 from 10 a.m. - 6 p.m.</li>\n</ul>\nTo learn more about FAIRHOPE Hospice &amp\; Palliative Care\, visit <a href="http://www.fairhopehospice.org">www.fairhopehospice.org</a>\, or find them on Facebook at <a href="http://www.facebook.com/FairhopeHospice">www.facebook.com/FairhopeHospice</a>.<br />\n&nbsp\;<br />\n<em><span style="font-size:10.0pt\;">FAIRHOPE Hospice &amp\; Palliative Care\, Inc. is a not-for-profit 501(c)(3) organization. FAIRHOPE provides a special kind of care\, embracing compassion and understanding for patients and families.&nbsp\; Offering comfort to those with a serious illness\, FAIRHOPE lends an emotional\, spiritual and physical support to family and friends during a difficult time and after the loss of a loved one.&nbsp\; Grief care is offered to hospice families and community members at no charge.&nbsp\; The FAIRHOPE team of experts is available to help you\, and is proud to be the legacy hospice provider for over 30 years.</span></em><br />\n&nbsp\;
LOCATION:Fairfield County Fairgrounds 157 E. Fair Avenue Lancaster\, OH 43130
UID:e.1451.13368
SEQUENCE:3
DTSTAMP:20260426T000534Z
URL:https://business.pickeringtonchamber.com/events/details/fairhope-hospice-palliative-care-inc-hosts-trash-to-treasure-sale-13368
END:VEVENT

END:VCALENDAR
