BEGIN:VCALENDAR
VERSION:2.0
PRODID:-//ChamberMaster//Event Calendar 2.0//EN
METHOD:PUBLISH
X-PUBLISHED-TTL:P3D
REFRESH-INTERVAL:P3D
CALSCALE:GREGORIAN
BEGIN:VEVENT
DTSTART:20210618T190000Z
DTEND:20210618T200000Z
X-MICROSOFT-CDO-ALLDAYEVENT:FALSE
SUMMARY:Fairfield Community Health Center Groundbreaking
DESCRIPTION:Join the Fairfield Community Health Center for an official Groundbreaking Ceremony of their South School Building project on Friday\, June 18th\, at 3 p.m.\n\n\n\nAccess to quality\, affordable healthcare is a big need in our community.  Census data shows Lancaster\, OH has a poverty rate of nearly 20% with a physician-to-resident ratio of 1:1\,307. Fairfield Community Health Center is addressing these issues by transforming a 27\,000 square foot former school building into a community health center accepting all patients. \n\n\n\nThe renovation of South School will revolutionize the availability of quality\, affordable healthcare in our community. The building will expand our Primary Care room availability by 71% and our Behavioral Health room availability by 250%.\n\n \n\nInvitation Details: Click Here\n\nInvitation Video: Click Here
X-ALT-DESC;FMTTYPE=text/html:<br />\n<span style="font-size:14px\;"><span style="font-family:arial\;">Join the Fairfield Community Health Center for an official Groundbreaking Ceremony of their South School Building project on Friday\, June 18th\, at 3 p.m.<br />\n<br />\nAccess to quality\, affordable healthcare is a big need in our community.&nbsp\; Census&nbsp\;<span style="color:windowtext\;">data shows Lancaster\, OH has a poverty rate of nearly 20% with a physician-to-resident ratio of 1:1\,307. Fairfield Community Health Center is addressing these issues by transforming a 27\,000 square foot former school building into a community health center accepting all patients.&nbsp\;</span><br />\n<br />\n<span style="color:windowtext\;">The renovation of South School will revolutionize the availability of quality\, affordable healthcare in our community. The building will expand our Primary Care room availability by 71% and our Behavioral Health room availability by 250%.</span><br />\n&nbsp\;<br />\n<span style="color:windowtext\;">Invitation Details: <a href="https://www.canva.com/design/DAEgLKbBXsI/G9YFzN72dMKpOA96jxG-3w/view?utm_content=DAEgLKbBXsI&amp\;utm_campaign=designshare&amp\;utm_medium=link&amp\;utm_source=sharebutton">Click Here</a></span><br />\n<span style="color:windowtext\;">Invitation Video: <a href="https://www.canva.com/design/DAEgVS7fwr4/nRLpmB6lrz0XlEW1s4dq1A/watch?utm_content=DAEgVS7fwr4&amp\;utm_campaign=designshare&amp\;utm_medium=link&amp\;utm_source=sharebutton">Click Here</a></span></span></span><br />\n&nbsp\;
LOCATION:Fairfield Community Health 220 E. Walnut St. Lancaster\, OH
UID:e.1451.15327
SEQUENCE:3
DTSTAMP:20260424T111034Z
URL:https://business.pickeringtonchamber.com/events/details/fairfield-community-health-center-groundbreaking-15327
END:VEVENT

END:VCALENDAR
