BEGIN:VCALENDAR
VERSION:2.0
PRODID:-//ChamberMaster//Event Calendar 2.0//EN
METHOD:PUBLISH
X-PUBLISHED-TTL:P3D
REFRESH-INTERVAL:P3D
CALSCALE:GREGORIAN
BEGIN:VEVENT
DTSTART:20231207T133000Z
DTEND:20231207T160000Z
X-MICROSOFT-CDO-ALLDAYEVENT:FALSE
SUMMARY:Fairfield Co. Economic Update
DESCRIPTION:Join us on Friday\, December 7\, 2023\, as we co-host the Annual Economic Outlook event in partnership with the Fairfield 33 Alliance\, the Lancaster-Fairfield County Chamber\, and the Canal Winchester Chamber of Commerce. Breakfast and networking will begin at 8:30 a.m. Program begins at 9:00 a.m.\n\n\n\nSpeakers:\n\nTony Burkart\n\nEconomic Development Center of Expertise\n\nGoogle\n\n\n\nKenny McDonald\n\nPresident/CEO\, Columbus Partnership
X-ALT-DESC;FMTTYPE=text/html:Join us on Friday\, December 7\, 2023\, as we co-host the Annual Economic Outlook event in partnership with the Fairfield 33 Alliance\, the Lancaster-Fairfield County Chamber\, and the Canal Winchester Chamber of Commerce. Breakfast and networking will begin at 8:30 a.m. Program begins at 9:00 a.m.<br />\n<br />\nSpeakers:<br />\n<strong>Tony Burkart</strong><br />\nEconomic Development Center of Expertise<br />\nGoogle<br />\n<br />\n<strong>Kenny McDonald</strong><br />\nPresident/CEO\, Columbus Partnership
LOCATION:Fairfield County Workforce Center 4465 Coonpath Road NW\, Carroll
UID:e.1451.16841
SEQUENCE:3
DTSTAMP:20260422T105754Z
URL:https://business.pickeringtonchamber.com/events/details/fairfield-co-economic-update-16841
END:VEVENT

END:VCALENDAR
