BEGIN:VCALENDAR
VERSION:2.0
PRODID:-//ChamberMaster//Event Calendar 2.0//EN
METHOD:PUBLISH
X-PUBLISHED-TTL:P3D
REFRESH-INTERVAL:P3D
CALSCALE:GREGORIAN
BEGIN:VEVENT
DTSTART:20190606T223000Z
DTEND:20190606T230000Z
X-MICROSOFT-CDO-ALLDAYEVENT:FALSE
SUMMARY:Facebook LIVE Book Chat
DESCRIPTION:Book Chat on Facebook with librarian Jenn. New books featured every month!\n\nThis LIVE event occurs the first Thursday of every month on the Pickerington Public Library Facebook page at 6:30 p.m.\n\n\n	What are you reading?\n	What gems has Jenn discovered on her reading adventures?\n	2019 Reading Challenge   how many can you read?\n\n\nJoin the live event to get personalized suggestions or watch the archived event later.
X-ALT-DESC;FMTTYPE=text/html:<p style="box-sizing: inherit\; border: 0px\; font-family: &quot\;Source Sans Pro&quot\;\, &quot\;Helvetica Neue&quot\;\, Helvetica\, Arial\, sans-serif\; font-size: 16px\; margin: 0px 0px 10px\; outline: 0px\; padding: 0px\; vertical-align: baseline\; word-break: break-word\; line-height: 1.7\; color: rgb(72\, 72\, 72)\;">Book Chat on Facebook with librarian Jenn.&nbsp\;New books featured every month!</p>\n\n<p style="box-sizing: inherit\; border: 0px\; font-family: &quot\;Source Sans Pro&quot\;\, &quot\;Helvetica Neue&quot\;\, Helvetica\, Arial\, sans-serif\; font-size: 16px\; margin: 0px 0px 10px\; outline: 0px\; padding: 0px\; vertical-align: baseline\; word-break: break-word\; line-height: 1.7\; color: rgb(72\, 72\, 72)\;">This LIVE event occurs the first Thursday of every month on the&nbsp\;<a href="https://www.facebook.com/PickeringtonPublicLibrary/" style="box-sizing: inherit\; border: 0px\; font-family: inherit\; font-style: inherit\; font-weight: inherit\; margin: 0px\; outline: 0px\; padding: 0px\; vertical-align: baseline\; color: rgb(0\, 178\, 90)\; text-decoration-line: none\;" target="_blank">Pickerington Public Library Facebook page</a>&nbsp\;at 6:30 p.m.</p>\n\n<ul style="box-sizing: inherit\; border: 0px\; font-family: &quot\;Source Sans Pro&quot\;\, &quot\;Helvetica Neue&quot\;\, Helvetica\, Arial\, sans-serif\; font-size: 16px\; margin: 0px 0px 1.625em 1.625em\; outline: 0px\; padding-right: 0px\; padding-left: 0px\; vertical-align: baseline\; list-style-position: outside\; list-style-image: initial\; color: rgb(72\, 72\, 72)\;">\n	<li style="box-sizing: inherit\; border: 0px\; font-family: inherit\; font-style: inherit\; font-weight: inherit\; margin: 0px 0px 20px\; outline: 0px\; padding: 0px\; vertical-align: baseline\; line-height: 1.7\;">What are you reading?</li>\n	<li style="box-sizing: inherit\; border: 0px\; font-family: inherit\; font-style: inherit\; font-weight: inherit\; margin: 0px 0px 20px\; outline: 0px\; padding: 0px\; vertical-align: baseline\; line-height: 1.7\;">What gems has Jenn discovered on her reading adventures?</li>\n	<li style="box-sizing: inherit\; border: 0px\; font-family: inherit\; font-style: inherit\; font-weight: inherit\; margin: 0px 0px 20px\; outline: 0px\; padding: 0px\; vertical-align: baseline\; line-height: 1.7\;">2019 Reading Challenge &ndash\; how many can you read?</li>\n</ul>\n\n<p style="box-sizing: inherit\; border: 0px\; font-family: &quot\;Source Sans Pro&quot\;\, &quot\;Helvetica Neue&quot\;\, Helvetica\, Arial\, sans-serif\; font-size: 16px\; margin: 0px 0px 10px\; outline: 0px\; padding: 0px\; vertical-align: baseline\; word-break: break-word\; line-height: 1.7\; color: rgb(72\, 72\, 72)\;">Join the live event to get personalized suggestions or watch the archived event later.</p>\n
LOCATION:https://www.facebook.com/PickeringtonPublicLibrary/
UID:e.1451.13288
SEQUENCE:3
DTSTAMP:20260425T235028Z
URL:https://business.pickeringtonchamber.com/events/details/facebook-live-book-chat-13288
END:VEVENT

END:VCALENDAR
