BEGIN:VCALENDAR
VERSION:2.0
PRODID:-//ChamberMaster//Event Calendar 2.0//EN
METHOD:PUBLISH
X-PUBLISHED-TTL:P3D
REFRESH-INTERVAL:P3D
CALSCALE:GREGORIAN
BEGIN:VEVENT
DTSTART:20191109T180000Z
DTEND:20191109T200000Z
X-MICROSOFT-CDO-ALLDAYEVENT:FALSE
SUMMARY:"Explore Zane's Trace in Fairfield County" @ Historical Museum
DESCRIPTION:Dale Ferbrache\, retired Fairfield Union High School Principal and local historian\, presents an interactive program about Zane's Trace\, a frontier road constructed during 1796-1797 by Colonel Ebenezer Zane. The road ran from Wheeling\, WV through Fairfield County\, OH to Maysville\, KY. Guests will be able to examine survey information\, discover hidden history/little known facts\, and take a first-hand look at the comprehensive mapping of Zane's Trace. Questions welcome!
X-ALT-DESC;FMTTYPE=text/html:Dale Ferbrache\, retired Fairfield Union High School Principal and local historian\, presents an interactive program about Zane&#39\;s Trace\, a frontier road constructed during 1796-1797 by Colonel Ebenezer Zane. The road ran from Wheeling\, WV through Fairfield County\, OH to Maysville\, KY. Guests will be able to examine survey information\, discover hidden history/little known facts\, and take a first-hand look at the comprehensive mapping of Zane&#39\;s Trace. Questions welcome!
LOCATION:Pickerington-Violet Twp Historical Museum Handicapped-accessible Lower Level 15 E Columbus St\, Pickerington\, OH 43147
UID:e.1451.13647
SEQUENCE:3
DTSTAMP:20260425T155725Z
URL:https://business.pickeringtonchamber.com/events/details/explore-zane-s-trace-in-fairfield-county-historical-museum-13647
END:VEVENT

END:VCALENDAR
