BEGIN:VCALENDAR
VERSION:2.0
PRODID:-//ChamberMaster//Event Calendar 2.0//EN
METHOD:PUBLISH
X-PUBLISHED-TTL:P3D
REFRESH-INTERVAL:P3D
CALSCALE:GREGORIAN
BEGIN:VEVENT
DTSTART:20200123T130000Z
DTEND:20200123T150000Z
X-MICROSOFT-CDO-ALLDAYEVENT:FALSE
SUMMARY:Economic Outlook 2020
DESCRIPTION:Join us on Thursday\, January 23\, 2020\, as we present Economic Outlook 2020!  This event\, hosted by the Fairfield 33 Alliance\, the Lancaster-Fairfield County Chamber\, Canal Winchester Chamber\, and the Pickerington Area Chamber\, will feature a presentation from Kevin Courtois from the U.S. Chamber.  \n\n\n\nThe U.S. economy is currently enjoying its longest uninterrupted stretch of growth on record\, and forecasts expect the expansion to continue.  However\, the world is full of uncertainty at present.  How do political\, geopolitical\, and policy uncertainties affect the U.S. and the global economic outlook?  Join us to find out!
X-ALT-DESC;FMTTYPE=text/html:<br />\nJoin us on <strong>Thursday\, January 23\, 2020</strong>\, as we present <strong>Economic Outlook 2020!</strong>&nbsp\; This event\, hosted by the <strong>Fairfield 33 Alliance</strong>\, the <strong>Lancaster-Fairfield County Chamber\, Canal Winchester Chamber\, and the Pickerington Area Chamber\,</strong> will feature a presentation from <strong>Kevin Courtois </strong>from the <strong>U.S. Chamber.&nbsp\;&nbsp\;</strong><br />\n<br />\nThe U.S. economy is currently enjoying its longest uninterrupted stretch of growth on record\, and forecasts expect the expansion to continue.&nbsp\; However\, the world is full of uncertainty at present.&nbsp\; How do political\, geopolitical\, and policy uncertainties affect the U.S. and the global economic outlook?&nbsp\; Join us to find out!
LOCATION:Fairfield County Board of DD 7140 Reynoldsburg-Baltimore Rd. NW Pickerington
UID:e.1451.13979
SEQUENCE:3
DTSTAMP:20260425T140032Z
URL:https://business.pickeringtonchamber.com/events/details/economic-outlook-2020-13979
END:VEVENT

END:VCALENDAR
