BEGIN:VCALENDAR
VERSION:2.0
PRODID:-//ChamberMaster//Event Calendar 2.0//EN
METHOD:PUBLISH
X-PUBLISHED-TTL:P3D
REFRESH-INTERVAL:P3D
CALSCALE:GREGORIAN
BEGIN:VEVENT
DTSTART:20220409T140000Z
DTEND:20220409T153000Z
X-MICROSOFT-CDO-ALLDAYEVENT:FALSE
SUMMARY:Easter Egg Hunt
DESCRIPTION:Hop along with US to fill your Easter basket
X-ALT-DESC;FMTTYPE=text/html:Hop along with US to fill your Easter basket
LOCATION:9480 Blacklick-Eastern Road Pickerington\, Ohio 43147
UID:e.1451.15754
SEQUENCE:3
DTSTAMP:20260423T172319Z
URL:https://business.pickeringtonchamber.com/events/details/easter-egg-hunt-15754
END:VEVENT

END:VCALENDAR
