BEGIN:VCALENDAR
VERSION:2.0
PRODID:-//ChamberMaster//Event Calendar 2.0//EN
METHOD:PUBLISH
X-PUBLISHED-TTL:P3D
REFRESH-INTERVAL:P3D
CALSCALE:GREGORIAN
BEGIN:VEVENT
DTSTART:20240323T140000Z
DTEND:20240323T194500Z
X-MICROSOFT-CDO-ALLDAYEVENT:FALSE
SUMMARY:Downsizing & Senior Care Expo 2024
DESCRIPTION:The Pickerington Area Chamber's first Downsizing & Senior Care Expo is Saturday\, March 23\, and is FREE TO THE PUBLIC! Held at the Wigwam Event Center\, this event features a large expo with vendors representing the numerous and varied companies\, organizations\, and industries that serve the senior and caregiver population. This interactive and dynamic event will include screenings\, and demos (yoga/cardio)\, and patient portal help desks\, and chair volleyball matches! Exhibit hall is open 10 a.m.-3 p.m.\n\n\n\nIn the nearby Theater\, the event will feature educational/informative sessions throughout the day on topics including downsizing\; pros and cons of living in place/downsizing/independent living/assisted living and other options\; brain health\; identifying scams and financial fraud schemes\; Medicare 101\, advanced planning\; estate planning/elder law\; setting up home for safety/dementia care\; having the conversation about driving\; managing medications\; and caregiver burnout/caregiver support. It will end with a panel of experts on senior care and services with an opportunity for Q&A. Info sessions will run from 10 a.m.-3:45 p.m.\n\n \n\nLancaster public transit will run a loop that day\, as well as be available for reservations. More information to come.\n\n \n\nThe first 100 attendees are provided a free sack lunch\, courtesy of Meals on Wheels. Valet parking will be available for those who have limited mobility.\n\n\n\nIf you want to be an exhibitor at this one-of-a-kind event\, register at the link on the right or contact Kim Barlag at kim@pickeringtonchamber.com.
X-ALT-DESC;FMTTYPE=text/html:The Pickerington Area Chamber&rsquo\;s first Downsizing &amp\; Senior Care Expo is Saturday\, March 23\, and is FREE TO THE PUBLIC! Held at the Wigwam Event Center\, this event features a large expo with vendors representing the numerous and varied companies\, organizations\, and industries that serve the senior and caregiver population. This interactive and dynamic event will include&nbsp\;screenings\, and demos (yoga/cardio)\, and patient portal help desks\, and chair volleyball matches! <strong>Exhibit hall is open 10 a.m.-3 p.m.</strong><br />\n<br />\nIn the nearby Theater\, the event will feature educational/informative sessions throughout the day on topics including downsizing\; pros and cons of living in place/downsizing/independent living/assisted living and other options\; brain health\; identifying scams and financial fraud schemes\; Medicare 101\, advanced planning\; estate planning/elder law\; setting up home for safety/dementia care\; having the conversation about driving\; managing medications\; and caregiver burnout/caregiver support. It will end with a panel of experts on senior care and services with an opportunity for Q&amp\;A. <strong>Info sessions will run from 10 a.m.-3:45 p.m.</strong><br />\n&nbsp\;<br />\nLancaster public transit will run a loop that day\, as well as be available for reservations. More information to come.<br />\n&nbsp\;<br />\nThe first 100 attendees are provided a free sack lunch\, courtesy of Meals on Wheels. Valet parking will be available for those who have limited mobility.<br />\n<br />\n<em><strong>If you want to be an exhibitor at this one-of-a-kind event\, register at the link on the right or contact Kim Barlag at kim@pickeringtonchamber.com.&nbsp\;</strong></em>
LOCATION:Wigwam Event Center 10190 Blacklick-Eastern Rd. NW Pickerington\, OH 43147
UID:e.1451.16824
SEQUENCE:3
DTSTAMP:20260422T042051Z
URL:https://business.pickeringtonchamber.com/events/details/downsizing-senior-care-expo-2024-16824
END:VEVENT

END:VCALENDAR
