BEGIN:VCALENDAR
VERSION:2.0
PRODID:-//ChamberMaster//Event Calendar 2.0//EN
METHOD:PUBLISH
X-PUBLISHED-TTL:P3D
REFRESH-INTERVAL:P3D
CALSCALE:GREGORIAN
BEGIN:VEVENT
DTSTART:20191206T130000Z
DTEND:20191218T220000Z
X-MICROSOFT-CDO-ALLDAYEVENT:FALSE
SUMMARY:Dorothy Steiger Memorial Mitten Tree
DESCRIPTION:Join us for a tree lighting ceremony at 5:00 pm on Friday\, December 6 at City Hall.  Please donate a scarf\, hat\, mittens\, gloves\, socks and other warm accessories to help local families in need during the cold months in Fairfield County.
X-ALT-DESC;FMTTYPE=text/html:Join us for a tree lighting ceremony at 5:00 pm on Friday\, December 6 at City Hall.&nbsp\; Please donate a scarf\, hat\, mittens\, gloves\, socks and other warm accessories to help local families in need during the cold months in Fairfield County.
LOCATION:City Hall 100 Lockville Road Pickerington\, OH 43147
UID:e.1451.12941
SEQUENCE:3
DTSTAMP:20260425T140917Z
URL:https://business.pickeringtonchamber.com/events/details/dorothy-steiger-memorial-mitten-tree-12941
END:VEVENT

END:VCALENDAR
