BEGIN:VCALENDAR
VERSION:2.0
PRODID:-//ChamberMaster//Event Calendar 2.0//EN
METHOD:PUBLISH
X-PUBLISHED-TTL:P3D
REFRESH-INTERVAL:P3D
CALSCALE:GREGORIAN
BEGIN:VEVENT
DTSTART;VALUE=DATE:20210917
DTEND;VALUE=DATE:20211001
TRANSP:TRANSPARENT
X-MICROSOFT-CDO-ALLDAYEVENT:TRUE
SUMMARY:Donations for Senior Citizen Care Bags
DESCRIPTION:Senior Citizen Car Bags will be delivered to local seniors in the Fairfield Co. community during the month of October. Please consider an item donation. Also accepting cash donations. Donations can be dropped off at Arbors at Carroll or a pick up can be scheduled by calling Jen Anderson at 740.654.0641.\n\n\n\nItems needed include: toiletry items\, Crossword/Soudoku/Word Find Puzzles with Pens\, Adult Coloring Books with Colored Pencils\, Adult Arts & Crafts Kits\, Jigsaw Puzzles\, Magazines\, Playing Cards\, Favorite Board Games\, Pre-Packaged Candy & Snacks\, Gift Cards to Local Businesses\, Throw Blankets\, Slippers\, Winter Hats/Gloves\, Writing Journal/Diary\, Picture Frames\, Handmade Items (not consumable)\, Non-Perishable Kitchen Items
X-ALT-DESC;FMTTYPE=text/html:<br />\nSenior Citizen Car Bags will be delivered to local seniors in the Fairfield Co. community during the month of October. Please consider an item donation. Also accepting cash donations. Donations can be dropped off at Arbors at Carroll or a pick up can be scheduled by calling Jen Anderson at 740.654.0641.<br />\n<br />\nItems needed include: toiletry items\, Crossword/Soudoku/Word Find Puzzles with Pens\, Adult Coloring Books with Colored Pencils\, Adult Arts &amp\; Crafts Kits\, Jigsaw Puzzles\, Magazines\, Playing Cards\, Favorite Board Games\, Pre-Packaged Candy &amp\; Snacks\, Gift Cards to Local Businesses\, Throw Blankets\, Slippers\, Winter Hats/Gloves\, Writing Journal/Diary\, Picture Frames\, Handmade Items (not consumable)\, Non-Perishable Kitchen Items
LOCATION:Arbors at Carroll 3680 Dolson Ct NW Carroll\, OH 43112
UID:e.1451.15468
SEQUENCE:3
DTSTAMP:20260424T045058Z
URL:https://business.pickeringtonchamber.com/events/details/donations-for-senior-citizen-care-bags-15468
END:VEVENT

END:VCALENDAR
