BEGIN:VCALENDAR
VERSION:2.0
PRODID:-//ChamberMaster//Event Calendar 2.0//EN
METHOD:PUBLISH
X-PUBLISHED-TTL:P3D
REFRESH-INTERVAL:P3D
CALSCALE:GREGORIAN
BEGIN:VEVENT
DTSTART:20201110T190000Z
DTEND:20201110T210000Z
X-MICROSOFT-CDO-ALLDAYEVENT:FALSE
SUMMARY:Doing Business with the State of Ohio
DESCRIPTION:Learn about how to do business with the State of Ohio.  Receive guidance on how to find opportunities with the State of Ohio and how to position your business for success in state contracting.
X-ALT-DESC;FMTTYPE=text/html:<br />\nLearn about how to do business with the State of Ohio.&nbsp\; Receive guidance on how to find opportunities with the State of Ohio and how to position your business for success in state contracting.
LOCATION:Virtual Event
UID:e.1451.14774
SEQUENCE:3
DTSTAMP:20260424T203604Z
URL:https://business.pickeringtonchamber.com/events/details/doing-business-with-the-state-of-ohio-14774
END:VEVENT

END:VCALENDAR
