BEGIN:VCALENDAR
VERSION:2.0
PRODID:-//ChamberMaster//Event Calendar 2.0//EN
METHOD:PUBLISH
X-PUBLISHED-TTL:P3D
REFRESH-INTERVAL:P3D
CALSCALE:GREGORIAN
BEGIN:VEVENT
DTSTART:20190902T203000Z
DTEND:20190902T230000Z
X-MICROSOFT-CDO-ALLDAYEVENT:FALSE
SUMMARY:Dog Splash
DESCRIPTION:Calling all dog owners!!  Now is your chance to swim with your dog at the Pickerington Community Pool for a pooch pool party.  \n\n\n\nMust provide proof of rabies and current vaccinations at entry.  No dogs in heat permitted.
X-ALT-DESC;FMTTYPE=text/html:Calling all dog owners!!&nbsp\; Now is your chance to swim with your dog at the Pickerington Community Pool for a pooch pool party.&nbsp\;&nbsp\;<br />\n<br />\nMust provide proof of rabies and current vaccinations at entry.&nbsp\; No dogs in heat permitted.<br />\n<br />\n&nbsp\;
LOCATION:Pickerington Community Pool 11330 Stonecreek Drive Pickerington\, OH 43147
UID:e.1451.12936
SEQUENCE:3
DTSTAMP:20260425T190526Z
URL:https://business.pickeringtonchamber.com/events/details/dog-splash-12936
END:VEVENT

END:VCALENDAR
