BEGIN:VCALENDAR
VERSION:2.0
PRODID:-//ChamberMaster//Event Calendar 2.0//EN
METHOD:PUBLISH
X-PUBLISHED-TTL:P3D
REFRESH-INTERVAL:P3D
CALSCALE:GREGORIAN
BEGIN:VEVENT
DTSTART;VALUE=DATE:20190921
DTEND;VALUE=DATE:20190922
TRANSP:TRANSPARENT
X-MICROSOFT-CDO-ALLDAYEVENT:TRUE
SUMMARY:Disney's Enchanted Tales Film Series
DESCRIPTION:DISNEY'S Enchanted Tales\n \n\nHave you ever wished (upon a star) that you could relive the magic of Disney movies on the big screen? This September\, we're giving you your chance! Marcus Theatres and Movie Tavern is proud to present the Disney's Enchanted Tales series. Come see these timeless classics for only $6! The perfect outing for families\, friends\, and all ages.\n\nFridays\, Saturdays & Sundays \n\n \n\nMoana - September 6 - 8\n\nCinderella - September 13 - 15\n\nPeter Pan - September 20 - 22\n\nThe Little Mermaid - September 27 - 29\n\n \n\nAll tickets are only $6 per person!
X-ALT-DESC;FMTTYPE=text/html:<div style="text-align: center\;">&nbsp\;</div>\n\n<h1 style="box-sizing: border-box\; font-family: Oswald\, sans-serif\; text-transform: uppercase\; line-height: 36px\; font-weight: normal\; color: rgb(139\, 14\, 4)\; margin: 0px\; font-size: 2rem\; font-variant-ligatures: no-common-ligatures\; background-color: rgb(255\, 255\, 255)\;">&nbsp\;</h1>\n\n<h1 style="box-sizing: border-box\; font-family: Oswald\, sans-serif\; text-transform: uppercase\; line-height: 36px\; font-weight: normal\; color: rgb(139\, 14\, 4)\; margin: 0px\; font-size: 2rem\; font-variant-ligatures: no-common-ligatures\; background-color: rgb(255\, 255\, 255)\; text-align: center\;">DISNEY&#39\;S&nbsp\;<span class="headline-accent" style="box-sizing: border-box\; font-family: signpaintermedium\, cursive\; font-size: 2.65rem\; padding: 0px 6px\; margin-right: 4px\; word-spacing: -4px\; text-transform: none\; color: rgb(75\, 117\, 138)\; position: relative\; z-index: 999\;">Enchanted Tales</span></h1>\n&nbsp\;\n\n<p background-color:="" font-variant-ligatures:="" open="" style="box-sizing: border-box\; margin-top: 8px\; line-height: 1.8\; font-size: 0.85rem\; color: rgb(51\, 51\, 51)\; font-family: " text-align:="">Have you ever wished (upon a star) that you could relive the magic of Disney movies on the big screen? This September\, we&#39\;re giving you your chance! Marcus Theatres and Movie Tavern&nbsp\;is proud to present the Disney&#39\;s Enchanted Tales series. Come see these timeless classics for only $6! The perfect outing for families\, friends\, and all ages.</p>\n\n<h3 background-color:="" font-variant-ligatures:="" open="" style="box-sizing: border-box\; color: rgb(51\, 51\, 51)\; font-weight: normal\; margin: 0px\; font-size: 1.25rem\; font-family: " text-align:="">Fridays\, Saturdays &amp\; Sundays&nbsp\;</h3>\n\n<p background-color:="" font-variant-ligatures:="" open="" style="box-sizing: border-box\; margin-top: 8px\; line-height: 1.8\; font-size: 0.85rem\; color: rgb(51\, 51\, 51)\; font-family: ">&nbsp\;</p>\n\n<h2 style="box-sizing: border-box\; color: rgb(139\, 14\, 4)\; font-family: Oswald\, sans-serif\; font-weight: normal\; margin: 0px\; line-height: 1.2\; font-size: 1.5rem\; font-variant-ligatures: no-common-ligatures\; background-color: rgb(255\, 255\, 255)\;"><b style="box-sizing: border-box\;"><i style="box-sizing: border-box\;">Moana -&nbsp\;</i></b>September 6 - 8<br style="box-sizing: border-box\;" />\n<em style="box-sizing: border-box\;"><strong style="box-sizing: border-box\;">Cinderella</strong></em>&nbsp\;- September 13 - 15<br style="box-sizing: border-box\;" />\n<em style="box-sizing: border-box\;"><strong style="box-sizing: border-box\;">Peter Pan&nbsp\;</strong></em>- September 20 - 22<br style="box-sizing: border-box\;" />\n<em style="box-sizing: border-box\;"><strong style="box-sizing: border-box\;">The Little Mermaid</strong></em>&nbsp\;- September 27 - 29</h2>\n\n<p background-color:="" font-variant-ligatures:="" open="" style="box-sizing: border-box\; margin-top: 8px\; line-height: 1.8\; font-size: 0.85rem\; color: rgb(51\, 51\, 51)\; font-family: ">&nbsp\;</p>\n\n<h3 background-color:="" font-variant-ligatures:="" open="" style="box-sizing: border-box\; color: rgb(51\, 51\, 51)\; font-weight: normal\; margin: 0px\; font-size: 1.25rem\; font-family: ">All tickets are only $6 per person!</h3>\n
LOCATION:Marcus Theatres Pickerington Cinema 1776 Hill Rd N Pickerington\, OH 43147
UID:e.1451.13561
SEQUENCE:3
DTSTAMP:20260425T192520Z
URL:https://business.pickeringtonchamber.com/events/details/disney-s-enchanted-tales-film-series-09-21-2019-13561
END:VEVENT

END:VCALENDAR
