BEGIN:VCALENDAR
VERSION:2.0
PRODID:-//ChamberMaster//Event Calendar 2.0//EN
METHOD:PUBLISH
X-PUBLISHED-TTL:P3D
REFRESH-INTERVAL:P3D
CALSCALE:GREGORIAN
BEGIN:VEVENT
DTSTART:20200213T210000Z
DTEND:20200213T230000Z
X-MICROSOFT-CDO-ALLDAYEVENT:FALSE
SUMMARY:Cupid Shuffle Speed Dating
DESCRIPTION:Looking for that special someone? Let us help speed up the process with our Cupid Shuffle. Meet other available local seniors. Anyone age 55 or older is invited to participate. Enjoy appetizers and cocktails while meeting new friends. Held in the Community Room.
X-ALT-DESC;FMTTYPE=text/html:Looking for that special someone? Let us help speed up the process with our Cupid Shuffle. Meet other available local seniors. Anyone age 55 or older is invited to participate. Enjoy appetizers and cocktails while meeting new friends. Held in the Community Room.
LOCATION:Sycamore Creek Senior Living 611 Windmiller Drive Pickerington\, OH 43147
UID:e.1451.14022
SEQUENCE:3
DTSTAMP:20260425T110513Z
URL:https://business.pickeringtonchamber.com/events/details/cupid-shuffle-speed-dating-14022
END:VEVENT

END:VCALENDAR
