BEGIN:VCALENDAR
VERSION:2.0
PRODID:-//ChamberMaster//Event Calendar 2.0//EN
METHOD:PUBLISH
X-PUBLISHED-TTL:P3D
REFRESH-INTERVAL:P3D
CALSCALE:GREGORIAN
BEGIN:VEVENT
DTSTART:20201204T020000Z
DTEND:20201204T030000Z
X-MICROSOFT-CDO-ALLDAYEVENT:FALSE
SUMMARY:Cultivate Works - How to Grow Your Business By Building Trust
DESCRIPTION:CULTIVATE WORKS! HOW TO GROW YOUR BUSINESS BY BUILDING TRUST WITH CUSTOMERS   BEGINNING WITH YOUR DIGITAL MARKETING   PICKERINGTON IN PERSON\n\n\nIn this session\, we explain the Cultivate Growth Track\, our overall approach to help grow your business by building trust with customers. This process begins at their first Google search and continues even after you close your first sale. The Growth Track process will help you to grow your business through digital marketing but will help you avoid the common pitfalls of working with digital marketing vendors and missing key elements needed in your overall business development process that are keeping you from reaching your potential.\n\nWhat you will learn:\n\n  What can a digital marketing vendor actually accomplish for you and what steps you need to do yourself\n\n  How to develop a process to build trust with your customers and win more business\n\n  How to get your digital marketing toolkit from Cultivate and get the tools to better understand your customers\n\nWho should attend: Any entrepreneur wanting to reach more customers through their website and social media
X-ALT-DESC;FMTTYPE=text/html:&nbsp\;\n<h1 class="mec-single-title" style="box-sizing: border-box\; margin: 0px 0px 30px\; text-rendering: optimizelegibility\; font-size: 33px\; line-height: 1.16\; font-family: Montserrat\, -apple-system\, BlinkMacSystemFont\, &quot\;Segoe UI&quot\;\, Roboto\, sans-serif\; font-weight: 700\; text-transform: uppercase\; letter-spacing: -1px\; color: rgb(23\, 28\, 36)\; clear: none\;">CULTIVATE WORKS! HOW TO GROW YOUR BUSINESS BY BUILDING TRUST WITH CUSTOMERS &ndash\; BEGINNING WITH YOUR DIGITAL MARKETING &ndash\; PICKERINGTON IN PERSON</h1>\n\n<div class="mec-single-event-description mec-events-content" style="box-sizing: border-box\; margin-bottom: 30px\; font-family: Montserrat\, -apple-system\, BlinkMacSystemFont\, &quot\;Segoe UI&quot\;\, Roboto\, sans-serif\; color: rgb(98\, 98\, 98)\; font-size: 14px\;">\n<p style="box-sizing: border-box\; margin: 0px 0px 20px\; color: rgb(97\, 97\, 97)\; line-height: 1.8\; font-family: Roboto\, sans-serif\;">In this session\, we explain the Cultivate Growth Track\, our overall approach to help grow your business by building trust with customers. This process begins at their first Google search and continues even after you close your first sale. The Growth Track process will help you to grow your business through digital marketing but will help you avoid the common pitfalls of working with digital marketing vendors and missing key elements needed in your overall business development process that are keeping you from reaching your potential.</p>\n\n<p style="box-sizing: border-box\; margin: 0px 0px 20px\; color: rgb(97\, 97\, 97)\; line-height: 1.8\; font-family: Roboto\, sans-serif\;"><strong style="box-sizing: border-box\;">What you will learn:</strong></p>\n\n<p style="box-sizing: border-box\; margin: 0px 0px 20px\; color: rgb(97\, 97\, 97)\; line-height: 1.8\; font-family: Roboto\, sans-serif\;">&bull\;&nbsp\;What can a digital marketing vendor actually accomplish for you and what steps you need to do yourself<br style="box-sizing: border-box\;" />\n&bull\;&nbsp\;How to develop a process to build trust with your customers and win more business<br style="box-sizing: border-box\;" />\n&bull\;&nbsp\;How to get your digital marketing toolkit from Cultivate and get the tools to better understand your customers</p>\n\n<p style="box-sizing: border-box\; margin: 0px 0px 20px\; color: rgb(97\, 97\, 97)\; line-height: 1.8\; font-family: Roboto\, sans-serif\;"><strong style="box-sizing: border-box\;">Who should attend:</strong>&nbsp\;Any entrepreneur wanting to reach more customers through their website and social media</p>\n</div>\n
LOCATION:Cultivate Pickerington 19 N. Center St. Pickerington\, OH 43147
UID:e.1451.14798
SEQUENCE:3
DTSTAMP:20260424T201834Z
URL:https://business.pickeringtonchamber.com/events/details/cultivate-works-how-to-grow-your-business-by-building-trust-14798
END:VEVENT

END:VCALENDAR
