BEGIN:VCALENDAR
VERSION:2.0
PRODID:-//ChamberMaster//Event Calendar 2.0//EN
METHOD:PUBLISH
X-PUBLISHED-TTL:P3D
REFRESH-INTERVAL:P3D
CALSCALE:GREGORIAN
BEGIN:VEVENT
DTSTART:20210107T140000Z
DTEND:20210107T150000Z
X-MICROSOFT-CDO-ALLDAYEVENT:FALSE
SUMMARY:Cultivate Works - "Business Launching Course"
DESCRIPTION:Ready to start a business? Aspiring to be an Entrepreneur but need to figure out what to do next? Join Cultivate for Launch Track and learn how to validate your business idea\, create a business plan and complete the steps to launch your business. This event is free and will be available in-person or request the video.\n\nWhat you will learn:\n\n\n	How to determine if this is the right business for you\n	Understand the 4 key areas needed for your business to succeed\n	How to make a business plan\n	How to get funding for your business\n	Step by step check list to officially start a business\n	How to get customers\n\n\nWho should attend: Aspiring entrepreneurs that have concerns about their business idea\, are not sure how they will fund their idea or have not yet created a business plan with projections.
X-ALT-DESC;FMTTYPE=text/html:&nbsp\;\n<p style="box-sizing: border-box\; margin: 0px 0px 20px\; color: rgb(97\, 97\, 97)\; font-size: 14px\; line-height: 1.8\; font-family: Roboto\, sans-serif\;">Ready to start a business? Aspiring to be an Entrepreneur but need to figure out what to do next? Join Cultivate for Launch Track and learn how to validate your business idea\, create a business plan and complete the steps to launch your business. This event is free and will be available in-person or request the video.</p>\n\n<p style="box-sizing: border-box\; margin: 0px 0px 20px\; color: rgb(97\, 97\, 97)\; font-size: 14px\; line-height: 1.8\; font-family: Roboto\, sans-serif\;"><strong style="box-sizing: border-box\;">What you will learn:</strong></p>\n\n<ul style="box-sizing: border-box\; padding-right: 0px\; padding-left: 0px\; margin: 0px 0px 1.313em 1.655em\; color: rgb(98\, 98\, 98)\; font-family: Montserrat\, -apple-system\, BlinkMacSystemFont\, &quot\;Segoe UI&quot\;\, Roboto\, sans-serif\; font-size: 14px\;">\n	<li style="box-sizing: border-box\;">How to determine if this is the right business for you</li>\n	<li style="box-sizing: border-box\;">Understand the 4 key areas needed for your business to succeed</li>\n	<li style="box-sizing: border-box\;">How to make a business plan</li>\n	<li style="box-sizing: border-box\;">How to get funding for your business</li>\n	<li style="box-sizing: border-box\;">Step by step check list to officially start a business</li>\n	<li style="box-sizing: border-box\;">How to get customers</li>\n</ul>\n\n<p style="box-sizing: border-box\; margin: 0px 0px 20px\; color: rgb(97\, 97\, 97)\; font-size: 14px\; line-height: 1.8\; font-family: Roboto\, sans-serif\;"><strong style="box-sizing: border-box\;">Who should attend:&nbsp\;</strong>Aspiring entrepreneurs that have concerns about their business idea\, are not sure how they will fund their idea or have not yet created a business plan with projections.</p>\n
LOCATION:Cultivate Pickerington 19 N. Center St. Pickerington
UID:e.1451.14867
SEQUENCE:3
DTSTAMP:20260424T173411Z
URL:https://business.pickeringtonchamber.com/events/details/cultivate-works-business-launching-course-14867
END:VEVENT

END:VCALENDAR
