BEGIN:VCALENDAR
VERSION:2.0
PRODID:-//ChamberMaster//Event Calendar 2.0//EN
METHOD:PUBLISH
X-PUBLISHED-TTL:P3D
REFRESH-INTERVAL:P3D
CALSCALE:GREGORIAN
BEGIN:VEVENT
DTSTART:20200924T140000Z
DTEND:20200924T180000Z
X-MICROSOFT-CDO-ALLDAYEVENT:FALSE
SUMMARY:Cultivate - Update Your Professional Headshot
DESCRIPTION:A special event for Cultivate Pickerington members!\n\nWhether you're a small business owner in need of a great headshot for your website\, in the middle of changing careers\, or a Marketing professional looking to update your company's website\, we are here for you!\n\nWe are creating a unique event where you can signup for a 15 minute session. Your choice of two backgrounds. Our skilled photographers will take a professional headshot that you can use for all your online and offline business needs.\n\nThe cost is just $10 per headshot within your 15 minute mini-session!\n\nWe are taking precautions with social distancing and following the guidelines from the city and county. We request everyone where a mask to the event and while you are waiting for your session. During your session\, we will make sure no one is around you within social distance perimeters of at least 6ft\, so you can feel comfortable removing your mask.
X-ALT-DESC;FMTTYPE=text/html:&nbsp\;\n<div class="kvgmc6g5 cxmmr5t8 oygrvhab hcukyx3x c1et5uql" style="overflow-wrap: break-word\; margin: 0px\; font-family: &quot\;Segoe UI Historic&quot\;\, &quot\;Segoe UI&quot\;\, Helvetica\, Arial\, sans-serif\; color: rgb(5\, 5\, 5)\; font-size: 15px\;">A special event for Cultivate Pickerington members!</div>\n\n<div class="o9v6fnle cxmmr5t8 oygrvhab hcukyx3x c1et5uql" style="overflow-wrap: break-word\; margin: 0.5em 0px 0px\; font-family: &quot\;Segoe UI Historic&quot\;\, &quot\;Segoe UI&quot\;\, Helvetica\, Arial\, sans-serif\; color: rgb(5\, 5\, 5)\; font-size: 15px\;">Whether you&rsquo\;re a small business owner in need of a great headshot for your website\, in the middle of changing careers\, or a Marketing professional looking to update your company&rsquo\;s website\, we are here for you!</div>\n\n<div class="o9v6fnle cxmmr5t8 oygrvhab hcukyx3x c1et5uql" style="overflow-wrap: break-word\; margin: 0.5em 0px 0px\; font-family: &quot\;Segoe UI Historic&quot\;\, &quot\;Segoe UI&quot\;\, Helvetica\, Arial\, sans-serif\; color: rgb(5\, 5\, 5)\; font-size: 15px\;">We are creating a unique event where you can signup for a 15 minute session. Your choice of two backgrounds. Our skilled photographers will take a professional headshot that you can use for all your online and offline business needs.</div>\n\n<div class="o9v6fnle cxmmr5t8 oygrvhab hcukyx3x c1et5uql" style="overflow-wrap: break-word\; margin: 0.5em 0px 0px\; font-family: &quot\;Segoe UI Historic&quot\;\, &quot\;Segoe UI&quot\;\, Helvetica\, Arial\, sans-serif\; color: rgb(5\, 5\, 5)\; font-size: 15px\;">The cost is just $10 per headshot within your 15 minute mini-session!<br />\nWe are taking precautions with social distancing and following the guidelines from the city and county. We request everyone where a mask to the event and while you are waiting for your session. During your session\, we will make sure no one is around you within social distance perimeters of at least 6ft\, so you can feel comfortable removing your mask.</div>\n
LOCATION:Cultivate Pickerington 19 N. Center St. Pickerington
UID:e.1451.14688
SEQUENCE:3
DTSTAMP:20260424T233414Z
URL:https://business.pickeringtonchamber.com/events/details/cultivate-update-your-professional-headshot-14688
END:VEVENT

END:VCALENDAR
