BEGIN:VCALENDAR
VERSION:2.0
PRODID:-//ChamberMaster//Event Calendar 2.0//EN
METHOD:PUBLISH
X-PUBLISHED-TTL:P3D
REFRESH-INTERVAL:P3D
CALSCALE:GREGORIAN
BEGIN:VEVENT
DTSTART:20201013T130000Z
DTEND:20201013T140000Z
X-MICROSOFT-CDO-ALLDAYEVENT:FALSE
SUMMARY:Cultivate - The Complex Art & Science of Successful Marketing
DESCRIPTION:Every business should aspire to tie its work back to revenue influenced by marketing activities. This can be easier to do for some activities vs. others. In this session\, you will learn how to associate most of your marketing efforts with revenue. For businesses with limited resources\, directly measuring the success of marketing campaigns is critical.Heather Harmon will teach you to view success through two primary lenses   What is the ROI of your marketing efforts? And\, how are your strategies and tactics performing?
X-ALT-DESC;FMTTYPE=text/html:<br />\n<span style="color: rgb(97\, 97\, 97)\; font-family: Roboto\, sans-serif\; font-size: 14px\;">Every business should aspire to tie its work back to revenue influenced by marketing activities. This can be easier to do for some activities vs. others. In this session\, you will learn how to associate most of your marketing efforts with revenue. For businesses with limited resources\, directly measuring the success of marketing campaigns is critical.Heather Harmon will teach you to view success through two primary lenses &mdash\; What is the ROI of your marketing efforts? And\, how are your strategies and tactics performing?</span>
LOCATION:Livestream Event
UID:e.1451.14687
SEQUENCE:3
DTSTAMP:20260424T233553Z
URL:https://business.pickeringtonchamber.com/events/details/cultivate-the-complex-art-science-of-successful-marketing-14687
END:VEVENT

END:VCALENDAR
