BEGIN:VCALENDAR
VERSION:2.0
PRODID:-//ChamberMaster//Event Calendar 2.0//EN
METHOD:PUBLISH
X-PUBLISHED-TTL:P3D
REFRESH-INTERVAL:P3D
CALSCALE:GREGORIAN
BEGIN:VEVENT
DTSTART:20210810T133000Z
DTEND:20210810T143000Z
X-MICROSOFT-CDO-ALLDAYEVENT:FALSE
SUMMARY:Cultivate Presents - How to Know If Your Business Is a Score or a Snore!
DESCRIPTION:HOW TO KNOW IF YOUR BUSINESS IS A SCORE OR A SNORE WITH YOUR MARKET   LIVESTREAM\n\n\n\n\n\n\n \n\n\n\n\n\n\n\nInvestors look for companies that have credibly identified ample\, reachable market opportunities large enough to generate significantly better than average returns. So\, how do you determine your target market? Join Andrea Ewing of Rev1 Ventures as she walks you through how to identify your audience. You will learn how to survey potential customers to find out which features of the solution they will pay real money for. Entrepreneurs are often surprised that features they worked diligently on and assumed were great can get a big yawn from customers.\n\nSpeaker: Andrea Ewing\, Manager\, Corporate Connections\, Rev1 Ventures
X-ALT-DESC;FMTTYPE=text/html:<h1 class="mec-single-title" style="box-sizing: border-box\; margin: 0px 0px 30px\; text-rendering: optimizelegibility\; font-size: 33px\; line-height: 1.16\; font-family: Montserrat\, -apple-system\, BlinkMacSystemFont\, &quot\;Segoe UI&quot\;\, Roboto\, sans-serif\; font-weight: 700\; text-transform: uppercase\; letter-spacing: -1px\; color: rgb(23\, 28\, 36)\; clear: none\;">HOW TO KNOW IF YOUR BUSINESS IS A SCORE OR A SNORE WITH YOUR MARKET &ndash\; LIVESTREAM</h1>\n\n<div class="mec-single-event-description mec-events-content" style="box-sizing: border-box\; margin-bottom: 30px\; font-family: Montserrat\, -apple-system\, BlinkMacSystemFont\, &quot\;Segoe UI&quot\;\, Roboto\, sans-serif\; color: rgb(98\, 98\, 98)\; font-size: 16px\;">\n<div class="cs-content" id="cs-content" style="box-sizing: border-box\;">\n<div class="e24421-1 x-section" style="box-sizing: border-box\; position: relative\; margin: 0px\; padding: 45px 0px\; transition-duration: 300ms\; transition-property: border-color\, background-color\, box-shadow\, opacity\, filter\, transform\; transition-timing-function: cubic-bezier(0.4\, 0\, 0.2\, 1)\; background-color: transparent\; z-index: auto\;">\n<div class="e24421-2 x-row x-container max width" style="box-sizing: border-box\; display: flex\; position: relative\; flex-flow: row nowrap\; justify-content: center\; align-items: stretch\; width: 695.188px\; min-width: 0px\; max-width: 1200px\; height: auto\; min-height: 0px\; max-height: none\; margin: 0px auto\; border: 0px\; border-radius: 0px\; padding: 1px\; transition-duration: 300ms\; transition-property: border-color\, background-color\, box-shadow\, opacity\, filter\, transform\; transition-timing-function: cubic-bezier(0.4\, 0\, 0.2\, 1)\; z-index: auto\; font-size: 1em\; background-color: transparent\;">\n<div class="x-row-inner" style="box-sizing: border-box\; display: flex\; flex-flow: row wrap\; flex: 1 1 auto\; min-width: 0px\; min-height: 0px\; place-content: stretch flex-start\; align-items: stretch\; margin: calc((0.5rem + 1px) * -1)\;">\n<div class="e24421-3 x-col" style="box-sizing: border-box\; flex: 1 1 calc(100% - 1rem)\; position: relative\; width: auto\; min-width: 0px\; max-width: 100%\; height: auto\; min-height: 0px\; max-height: none\; margin: calc(0.5rem)\; border: 0px\; border-radius: 0px\; padding: 0px\; transition-duration: 300ms\; transition-property: border-color\, background-color\, box-shadow\, opacity\, filter\, transform\; transition-timing-function: cubic-bezier(0.4\, 0\, 0.2\, 1)\; z-index: auto\; font-size: 1em\; background-color: transparent\;">&nbsp\;</div>\n</div>\n</div>\n\n<div class="e24421-4 x-row x-container max width" style="box-sizing: border-box\; display: flex\; position: relative\; flex-flow: row nowrap\; justify-content: center\; align-items: stretch\; width: 695.188px\; min-width: 0px\; max-width: 1200px\; height: auto\; min-height: 0px\; max-height: none\; margin: 0px auto\; border: 0px\; border-radius: 0px\; padding: 1px\; transition-duration: 300ms\; transition-property: border-color\, background-color\, box-shadow\, opacity\, filter\, transform\; transition-timing-function: cubic-bezier(0.4\, 0\, 0.2\, 1)\; z-index: auto\; font-size: 1em\; background-color: transparent\;">\n<div class="x-row-inner" style="box-sizing: border-box\; display: flex\; flex-flow: row wrap\; flex: 1 1 auto\; min-width: 0px\; min-height: 0px\; place-content: stretch flex-start\; align-items: stretch\; margin: calc((0.5rem + 1px) * -1)\;">\n<div class="e24421-5 x-col" style="box-sizing: border-box\; flex: 1 1 calc(100% - 1rem)\; position: relative\; width: auto\; min-width: 0px\; max-width: 100%\; height: auto\; min-height: 0px\; max-height: none\; margin: calc(0.5rem)\; border: 0px\; border-radius: 0px\; padding: 0px\; transition-duration: 300ms\; transition-property: border-color\, background-color\, box-shadow\, opacity\, filter\, transform\; transition-timing-function: cubic-bezier(0.4\, 0\, 0.2\, 1)\; z-index: auto\; font-size: 1em\; background-color: transparent\;">\n<div class="x-text" style="box-sizing: border-box\; min-width: 1px\; transition-duration: 300ms\; transition-timing-function: cubic-bezier(0.4\, 0\, 0.2\, 1)\; transition-property: color\, border-color\, background-color\, box-shadow\, text-shadow\, column-rule\, opacity\, filter\, transform\;">\n<p data-key="1" style="box-sizing: border-box\; margin: 0px 0px 20px\; color: rgb(97\, 97\, 97)\; font-size: 14px\; line-height: 1.8\; font-family: Roboto\, sans-serif\;"><span data-key="2" style="box-sizing: border-box\;">Investors look for companies that have credibly identified ample\, reachable market opportunities large enough to generate significantly better than average returns. So\, how do you determine your target market? Join Andrea Ewing of Rev1 Ventures as she walks you through how to identify your audience. You will learn how to survey potential customers to find out which features of the solution they will pay real money for. Entrepreneurs are often surprised that features they worked diligently on and assumed were great can get a big yawn from customers.</span></p>\n\n<p data-key="3" style="box-sizing: border-box\; margin: 0px 0px 20px\; color: rgb(97\, 97\, 97)\; font-size: 14px\; line-height: 1.8\; font-family: Roboto\, sans-serif\;"><span data-key="4" style="box-sizing: border-box\;"><em data-slate-leaf="true" style="box-sizing: border-box\;"><strong data-slate-leaf="true" style="box-sizing: border-box\;">Speaker: Andrea Ewing\, Manager\, Corporate Connections\, Rev1 Ventures</strong></em></span></p>\n</div>\n</div>\n</div>\n</div>\n</div>\n</div>\n</div>\n
LOCATION:Virtual Event
UID:e.1451.15357
SEQUENCE:3
DTSTAMP:20260424T062516Z
URL:https://business.pickeringtonchamber.com/events/details/cultivate-presents-how-to-know-if-your-business-is-a-score-or-a-snore-15357
END:VEVENT

END:VCALENDAR
