BEGIN:VCALENDAR
VERSION:2.0
PRODID:-//ChamberMaster//Event Calendar 2.0//EN
METHOD:PUBLISH
X-PUBLISHED-TTL:P3D
REFRESH-INTERVAL:P3D
CALSCALE:GREGORIAN
BEGIN:VEVENT
DTSTART:20200903T133000Z
DTEND:20200903T143000Z
X-MICROSOFT-CDO-ALLDAYEVENT:FALSE
SUMMARY:Cultivate-Pickerington: Fostering Community Through Business Diversity & Inclusion
DESCRIPTION:FOSTERING COMMUNITY THROUGH BUSINESS DEVELOPMENT DIVERSITY & INCLUSION\n\n\nREGISTER HERE\n\nLearn how you can strengthen the local economy and boost the creation of jobs in your local community by supporting\, advocating and doing business with minority-owned businesses.\n\nSpeaker: Deonna Barnett\, CEO & Managing Consultant of Aventi Enterprises\n\nDeonna is a small business strategist and consultant with expertise in business planning\, financial management\, operations management\, event planning and marketing strategy development. She has trained over 800 local entrepreneurs helping raise over $500\,000 in micro financing. She's a graduate of The Ohio State University with experience in both the for-profit and non-profit sectors as a former non-profit executive.\n\nLimited In Person Seating @ Cultivate Pickerington\n\nLive Stream Tickets Also Available
X-ALT-DESC;FMTTYPE=text/html:&nbsp\;\n<h1 class="mec-single-title" style="box-sizing: border-box\; margin: 0px 0px 30px\; text-rendering: optimizelegibility\; font-size: 33px\; line-height: 1.16\; font-family: Montserrat\, -apple-system\, BlinkMacSystemFont\, &quot\;Segoe UI&quot\;\, Roboto\, sans-serif\; font-weight: 700\; text-transform: uppercase\; letter-spacing: -1px\; color: rgb(23\, 28\, 36)\; clear: none\;">FOSTERING COMMUNITY THROUGH BUSINESS DEVELOPMENT DIVERSITY &amp\; INCLUSION</h1>\n\n<div class="mec-single-event-description mec-events-content" style="box-sizing: border-box\; margin-bottom: 30px\; font-family: Montserrat\, -apple-system\, BlinkMacSystemFont\, &quot\;Segoe UI&quot\;\, Roboto\, sans-serif\; color: rgb(98\, 98\, 98)\; font-size: 14px\;">\n<h1 style="box-sizing: border-box\; margin: 1em 0px 12px\; text-rendering: optimizelegibility\; font-size: 50px\; line-height: 1.16\; font-style: inherit\; text-transform: uppercase\; letter-spacing: -1px\; color: rgb(23\, 28\, 36)\; clear: none\;"><a href="https://www.eventbrite.com/e/fostering-community-through-business-development-diversity-inclusion-tickets-115107158610" style="box-sizing: border-box\; transition: color 0.4s ease 0s\; text-decoration-line: none\; color: rgb(51\, 51\, 51)\;">REGISTER HERE</a></h1>\n\n<p style="box-sizing: border-box\; margin: 0px 0px 20px\; color: rgb(97\, 97\, 97)\; line-height: 1.8\; font-family: Roboto\, sans-serif\;">Learn how you can strengthen the local economy and boost the creation of jobs in your local community by supporting\, advocating and doing business with minority-owned businesses.</p>\n\n<p style="box-sizing: border-box\; margin: 0px 0px 20px\; color: rgb(97\, 97\, 97)\; line-height: 1.8\; font-family: Roboto\, sans-serif\;"><strong style="box-sizing: border-box\;"><em style="box-sizing: border-box\;">Speaker:</em></strong><em style="box-sizing: border-box\;">&nbsp\;Deonna Barnett\, CEO &amp\; Managing Consultant of Aventi Enterprises</em></p>\n\n<p style="box-sizing: border-box\; margin: 0px 0px 20px\; color: rgb(97\, 97\, 97)\; line-height: 1.8\; font-family: Roboto\, sans-serif\;">Deonna is a small business strategist and consultant with expertise in business planning\, financial management\, operations management\, event planning and marketing strategy development. She has trained over 800 local entrepreneurs helping raise over $500\,000 in micro financing. She&rsquo\;s a graduate of The Ohio State University with experience in both the for-profit and non-profit sectors as a former non-profit executive.</p>\n\n<p style="box-sizing: border-box\; margin: 0px 0px 20px\; color: rgb(97\, 97\, 97)\; line-height: 1.8\; font-family: Roboto\, sans-serif\;"><em style="box-sizing: border-box\;"><strong style="box-sizing: border-box\;">Limited In Person Seating @ Cultivate Pickerington</strong></em></p>\n\n<p style="box-sizing: border-box\; margin: 0px 0px 20px\; color: rgb(97\, 97\, 97)\; line-height: 1.8\; font-family: Roboto\, sans-serif\;"><em style="box-sizing: border-box\;"><strong style="box-sizing: border-box\;">Live Stream Tickets Also Available</strong></em></p>\n</div>\n
LOCATION:Cultivate Pickerington 19 N. Center St. Pickerington
UID:e.1451.14558
SEQUENCE:3
DTSTAMP:20260424T233733Z
URL:https://business.pickeringtonchamber.com/events/details/cultivate-pickerington-fostering-community-through-business-diversity-inclusion-14558
END:VEVENT

END:VCALENDAR
