BEGIN:VCALENDAR
VERSION:2.0
PRODID:-//ChamberMaster//Event Calendar 2.0//EN
METHOD:PUBLISH
X-PUBLISHED-TTL:P3D
REFRESH-INTERVAL:P3D
CALSCALE:GREGORIAN
BEGIN:VEVENT
DTSTART:20200820T140000Z
DTEND:20200820T153000Z
X-MICROSOFT-CDO-ALLDAYEVENT:FALSE
SUMMARY:Cultivate-Pickerington - Establishing Your Operational Roadmap!
DESCRIPTION:Your business' operational roadmap is paved with five important tools Delegate and Elevate\, Accountability Chart\, Operational Tools\, Customer Service Matrix\, and Advisory Network. We'll break down what they are\, how to use them and how they work together to achieve success and efficiency in your business during the COVID-19 crisis and beyond.\n\n\n\nSpeaker: Randy Gerber\, Founder & Principal of Gerber\, LLC\n\n\n\nGerber\, LLC.\, is a professional service firm focused solely on improving the business and overall happiness of first generation entrepreneurs. By taking a holistic approach to each individual client's ideas and aspirations\, Gerber\, LLC helps their clients integrate and achieve their life\, business and financial goals.
X-ALT-DESC;FMTTYPE=text/html:<br />\n<span style="color: rgb(29\, 33\, 41)\; font-family: Helvetica\, Arial\, sans-serif\; font-size: 14px\; white-space: pre-wrap\;">Your business&rsquo\; operational roadmap is paved with five important tools&mdash\;Delegate and Elevate\, Accountability Chart\, Operational Tools\, Customer Service Matrix\, and Advisory Network. We&rsquo\;ll break down what they are\, how to use them and how they work together to achieve success and efficiency in your business during the COVID-19 crisis and beyond.</span><br style="color: rgb(29\, 33\, 41)\; font-family: Helvetica\, Arial\, sans-serif\; font-size: 14px\; white-space: pre-wrap\;" />\n<br style="color: rgb(29\, 33\, 41)\; font-family: Helvetica\, Arial\, sans-serif\; font-size: 14px\; white-space: pre-wrap\;" />\n<span style="color: rgb(29\, 33\, 41)\; font-family: Helvetica\, Arial\, sans-serif\; font-size: 14px\; white-space: pre-wrap\;">Speaker: Randy Gerber\, Founder &amp\; Principal of Gerber\, LLC</span><br style="color: rgb(29\, 33\, 41)\; font-family: Helvetica\, Arial\, sans-serif\; font-size: 14px\; white-space: pre-wrap\;" />\n<br style="color: rgb(29\, 33\, 41)\; font-family: Helvetica\, Arial\, sans-serif\; font-size: 14px\; white-space: pre-wrap\;" />\n<span style="color: rgb(29\, 33\, 41)\; font-family: Helvetica\, Arial\, sans-serif\; font-size: 14px\; white-space: pre-wrap\;">Gerber\, LLC.\, is a professional service firm focused solely on improving the business and overall happiness of first generation entrepreneurs. By taking a holistic approach to each individual client&rsquo\;s ideas and aspirations\, Gerber\, LLC helps their clients integrate and achieve their life\, business and financial goals.</span>
LOCATION:Cultivate - Pickerington 19 N. Center St. Pickerington\, OH
UID:e.1451.14525
SEQUENCE:3
DTSTAMP:20260425T011926Z
URL:https://business.pickeringtonchamber.com/events/details/cultivate-pickerington-establishing-your-operational-roadmap-14525
END:VEVENT

END:VCALENDAR
