BEGIN:VCALENDAR
VERSION:2.0
PRODID:-//ChamberMaster//Event Calendar 2.0//EN
METHOD:PUBLISH
X-PUBLISHED-TTL:P3D
REFRESH-INTERVAL:P3D
CALSCALE:GREGORIAN
BEGIN:VEVENT
DTSTART:20210407T161500Z
DTEND:20210407T171500Z
X-MICROSOFT-CDO-ALLDAYEVENT:FALSE
SUMMARY:Cultivate - Aspiring Entrepreneurs Financial Workshop
DESCRIPTION:CULTIVATE - Aspiring Entrepreneurs Financial Workshop \n\nAre you an aspiring entrepreneur that needs to get your personal finances better organized before you launch your new business? Join Traci Bakenhaster for this presentation to begin the process to improve your personal finances.\n\n\n\nWhat you will learn:\n\n\n	What are personal finances and why is this important as an entrepreneur\n	Why you need a budget and how to create one\n	The importance of getting rid of debt\n	What is credit and why is it important in business\n\n\nSpeaker: Traci Bakenhaster\, CEO of Design & Renew Career and Finance Coaching\n\nTraci is a Ramsey Solutions Master Financial Coach. She has her Master of Science in Business Psychology through Franklin University\, Bachelor of Science in Business Administration from The Ohio State University Fisher College of Business\, and several Associate Degrees from Columbus State Community College.\n\n\n\nThis is a FREE ZOOM event\; but Registration is required.\n\nRegister at the link below:\n\nhttps://www.cultivateworks.org/events/cultivate-works-aspiring-entrepreneurs-financial-workshop/
X-ALT-DESC;FMTTYPE=text/html:<h3><u><strong>CULTIVATE</strong></u><strong> - Aspiring </strong><span style="font-size:15.21px"><strong>Entrepreneurs</strong></span><strong>&nbsp\;Financial Workshop&nbsp\;</strong></h3>\n\n<div>Are you an <strong>aspiring entrepreneur </strong>that needs to get your <strong>personal finances </strong>better organized before you <strong>launch</strong> your <strong>new business</strong>? Join <strong>Traci Bakenhaster</strong> for this <strong>presentation</strong> to begin the process to<strong> improve</strong> your personal<strong> finances.</strong></div>\n\n<div><br />\n<strong>What you will learn:</strong></div>\n\n<ul>\n	<li><strong>What are personal finances and why is this important as an entrepreneur</strong></li>\n	<li><strong>Why you need a budget and how to create one</strong></li>\n	<li><strong>The importance of getting rid of debt</strong></li>\n	<li><strong>What is credit and why is it important in business</strong></li>\n</ul>\n\n<h4><strong>Speaker: Traci Bakenhaster\, CEO of Design &amp\; Renew Career and Finance Coaching</strong></h4>\n\n<div>Traci is a <strong>Ramsey Solutions Master Financial Coach</strong>. She has her <strong>Master of Science</strong> in <strong>Business Psychology</strong> through Franklin University\, <strong>Bachelor of Science</strong> in <strong>Business Administration</strong> from The Ohio State University Fisher College of Business\, and several <strong>Associate Degrees</strong> from Columbus State Community College.</div>\n\n<div><br />\nThis is a <strong>FREE ZOOM event\;&nbsp\;</strong>but <u><strong>Registration is required</strong></u>.</div>\n\n<h3><strong>Register at the link below:</strong></h3>\n\n<div><a href="https://www.cultivateworks.org/events/cultivate-works-aspiring-entrepreneurs-financial-workshop/">https://www.cultivateworks.org/events/cultivate-works-aspiring-entrepreneurs-financial-workshop/</a></div>\n
LOCATION:This is a Free Online Live Stream Event
UID:e.1451.14981
SEQUENCE:3
DTSTAMP:20260424T124526Z
URL:https://business.pickeringtonchamber.com/events/details/cultivate-aspiring-entrepreneurs-financial-workshop-14981
END:VEVENT

END:VCALENDAR
