BEGIN:VCALENDAR
VERSION:2.0
PRODID:-//ChamberMaster//Event Calendar 2.0//EN
METHOD:PUBLISH
X-PUBLISHED-TTL:P3D
REFRESH-INTERVAL:P3D
CALSCALE:GREGORIAN
BEGIN:VEVENT
DTSTART:20201008T130000Z
DTEND:20201008T140000Z
X-MICROSOFT-CDO-ALLDAYEVENT:FALSE
SUMMARY:Cultivate - 7 Sources of Business Cash to Start\, Grow & Survive
DESCRIPTION:Have you explored all 7 potential funding sources for your startup or existing business?\n\nAre you one of the 74% of small businesses that have been turned down for a bank loan?\n\nShould you be leery of accepting alternative lender & merchant card cash advances?\n\nJoin Matt Yerkes\, Executive Director of Cultivate for a 60-minute explanation of the business funding landscape. Matt will present realistic funding sources for startups & established companies\, explain what they require from the business owner and assistance that is available.\n\nWhat you will learn:\n\n\n	Understand the landscape of funding options that apply to your situation and what lenders & investors look for and expect of you.\n\n\n\n	What options are available for those with credit issues or are trying to make a fresh start?\n\n\n\n	Are you a candidate for seed investment or successfully execute a crowdfunding campaign?\n\n\n\n	When is the best point of the startup cycle to access credit?\n\n\n\n	What dangers should you avoid when working with a lender?
X-ALT-DESC;FMTTYPE=text/html:&nbsp\;\n<p style="box-sizing: border-box\; margin: 0px 0px 20px\; color: rgb(97\, 97\, 97)\; font-size: 14px\; line-height: 1.8\; font-family: Roboto\, sans-serif\;"><strong style="box-sizing: border-box\;">Have you explored all 7 potential funding sources for your startup or existing business?</strong></p>\n\n<p style="box-sizing: border-box\; margin: 0px 0px 20px\; color: rgb(97\, 97\, 97)\; font-size: 14px\; line-height: 1.8\; font-family: Roboto\, sans-serif\;"><strong style="box-sizing: border-box\;">Are you one of the 74% of small businesses that have been turned down for a bank loan?</strong></p>\n\n<p style="box-sizing: border-box\; margin: 0px 0px 20px\; color: rgb(97\, 97\, 97)\; font-size: 14px\; line-height: 1.8\; font-family: Roboto\, sans-serif\;"><strong style="box-sizing: border-box\;">Should you be leery of accepting alternative lender &amp\; merchant card cash advances?</strong></p>\n\n<p style="box-sizing: border-box\; margin: 0px 0px 20px\; color: rgb(97\, 97\, 97)\; font-size: 14px\; line-height: 1.8\; font-family: Roboto\, sans-serif\;">Join Matt Yerkes\, Executive Director of Cultivate for a 60-minute explanation of the business funding landscape. Matt will present realistic funding sources for startups &amp\; established companies\, explain what they require from the business owner and assistance that is available.</p>\n\n<p style="box-sizing: border-box\; margin: 0px 0px 20px\; color: rgb(97\, 97\, 97)\; font-size: 14px\; line-height: 1.8\; font-family: Roboto\, sans-serif\;"><em style="box-sizing: border-box\;"><strong style="box-sizing: border-box\;">What you will learn:</strong></em></p>\n\n<ul style="box-sizing: border-box\; padding-right: 0px\; padding-left: 0px\; margin: 0px 0px 1.313em 1.655em\; color: rgb(98\, 98\, 98)\; font-family: Montserrat\, -apple-system\, BlinkMacSystemFont\, &quot\;Segoe UI&quot\;\, Roboto\, sans-serif\; font-size: 14px\;">\n	<li style="box-sizing: border-box\;">Understand the landscape of funding options that apply to your situation and what lenders &amp\; investors look for and expect of you.</li>\n</ul>\n\n<ul style="box-sizing: border-box\; padding-right: 0px\; padding-left: 0px\; margin: 0px 0px 1.313em 1.655em\; color: rgb(98\, 98\, 98)\; font-family: Montserrat\, -apple-system\, BlinkMacSystemFont\, &quot\;Segoe UI&quot\;\, Roboto\, sans-serif\; font-size: 14px\;">\n	<li style="box-sizing: border-box\;">What options are available for those with credit issues or are trying to make a fresh start?</li>\n</ul>\n\n<ul style="box-sizing: border-box\; padding-right: 0px\; padding-left: 0px\; margin: 0px 0px 1.313em 1.655em\; color: rgb(98\, 98\, 98)\; font-family: Montserrat\, -apple-system\, BlinkMacSystemFont\, &quot\;Segoe UI&quot\;\, Roboto\, sans-serif\; font-size: 14px\;">\n	<li style="box-sizing: border-box\;">Are you a candidate for seed investment or successfully execute a crowdfunding campaign?</li>\n</ul>\n\n<ul style="box-sizing: border-box\; padding-right: 0px\; padding-left: 0px\; margin: 0px 0px 1.313em 1.655em\; color: rgb(98\, 98\, 98)\; font-family: Montserrat\, -apple-system\, BlinkMacSystemFont\, &quot\;Segoe UI&quot\;\, Roboto\, sans-serif\; font-size: 14px\;">\n	<li style="box-sizing: border-box\;">When is the best point of the startup cycle to access credit?</li>\n</ul>\n\n<ul style="box-sizing: border-box\; padding-right: 0px\; padding-left: 0px\; margin: 0px 0px 1.313em 1.655em\; color: rgb(98\, 98\, 98)\; font-family: Montserrat\, -apple-system\, BlinkMacSystemFont\, &quot\;Segoe UI&quot\;\, Roboto\, sans-serif\; font-size: 14px\;">\n	<li style="box-sizing: border-box\;">What dangers should you avoid when working with a lender?</li>\n</ul>\n
LOCATION:Cultivate Pickerington 19 N. Center St. Pickerington
UID:e.1451.14686
SEQUENCE:3
DTSTAMP:20260424T233904Z
URL:https://business.pickeringtonchamber.com/events/details/cultivate-7-sources-of-business-cash-to-start-grow-survive-14686
END:VEVENT

END:VCALENDAR
