BEGIN:VCALENDAR
VERSION:2.0
PRODID:-//ChamberMaster//Event Calendar 2.0//EN
METHOD:PUBLISH
X-PUBLISHED-TTL:P3D
REFRESH-INTERVAL:P3D
CALSCALE:GREGORIAN
BEGIN:VEVENT
DTSTART:20200701T231500Z
DTEND:20200702T001500Z
X-MICROSOFT-CDO-ALLDAYEVENT:FALSE
SUMMARY:Create Your Own Comic Book Characters!!!
DESCRIPTION:You don't have to dream about being a super hero anymore\, now you can create your very own!!\n\n \n\nAnyone can be a hero or villain no matter their size\, sex. color or shape.\n\nIn this course\, we encourage each student to blast their way through stereotypes and embrace the diversity of our world. Each student\,  will then\, use drawing as a means to express what a hero or a villain is to them\, and learn to create characters that look like the world they live in.\n\n \n\nThis is a 4 week course with classes meeting once a week on Wednesday Nights.  \n\nAges 8 and up
X-ALT-DESC;FMTTYPE=text/html:<h3 style="box-sizing: border-box\; margin-bottom: 0.6rem\; font-weight: 300\; margin-top: 0px\; line-height: 1.2\; font-size: 1.75rem\; color: rgb(79\, 84\, 103)\; font-family: Cabin\, sans-serif\; background-color: rgb(248\, 249\, 250)\;"><span style="box-sizing: border-box\; font-weight: 700\;">You don&rsquo\;t have to dream about being a super hero anymore\, now you can create your very own!!</span></h3>\n\n<p style="box-sizing: border-box\; margin-top: 0px\; margin-bottom: 1rem\; font-family: Cabin\, sans-serif\; background-color: rgb(248\, 249\, 250)\; color: rgba(0\, 0\, 0\, 0.6)\; font-size: 14px\;">&nbsp\;</p>\n\n<p style="box-sizing: border-box\; margin-top: 0px\; margin-bottom: 1rem\; font-family: Cabin\, sans-serif\; background-color: rgb(248\, 249\, 250)\; color: rgba(0\, 0\, 0\, 0.6)\; font-size: 14px\;">Anyone can be a hero or villain no matter their size\, sex. color or shape.</p>\n\n<p style="box-sizing: border-box\; margin-top: 0px\; margin-bottom: 1rem\; font-family: Cabin\, sans-serif\; background-color: rgb(248\, 249\, 250)\; color: rgba(0\, 0\, 0\, 0.6)\; font-size: 14px\;">In this course\, we encourage each student to<span style="box-sizing: border-box\;">&nbsp\;blast their way through stereotypes and embrace the diversity of our world. Each student\,&nbsp\; will then\, use drawing as a means to express what a hero or a villain is to them\, and learn to</span><span style="box-sizing: border-box\;">&nbsp\;create characters that look like the world they live in.</span></p>\n\n<p style="box-sizing: border-box\; margin-top: 0px\; margin-bottom: 1rem\; font-family: Cabin\, sans-serif\; background-color: rgb(248\, 249\, 250)\; color: rgba(0\, 0\, 0\, 0.6)\; font-size: 14px\;"><span style="box-sizing: border-box\;">&nbsp\;</span></p>\n\n<p style="box-sizing: border-box\; margin-top: 0px\; margin-bottom: 1rem\; font-family: Cabin\, sans-serif\; background-color: rgb(248\, 249\, 250)\; color: rgba(0\, 0\, 0\, 0.6)\; font-size: 14px\;">This is a 4 week course with classes meeting once a week on Wednesday Nights.&nbsp\;<span style="box-sizing: border-box\;">&nbsp\;</span></p>\n\n<p style="box-sizing: border-box\; margin-top: 0px\; margin-bottom: 1rem\; font-family: Cabin\, sans-serif\; background-color: rgb(248\, 249\, 250)\; color: rgba(0\, 0\, 0\, 0.6)\; font-size: 14px\;">Ages 8 and up</p>\n
LOCATION:
UID:e.1451.14464
SEQUENCE:3
DTSTAMP:20260425T024240Z
URL:https://business.pickeringtonchamber.com/events/details/create-your-own-comic-book-characters-14464
END:VEVENT

END:VCALENDAR
