BEGIN:VCALENDAR
VERSION:2.0
PRODID:-//ChamberMaster//Event Calendar 2.0//EN
METHOD:PUBLISH
X-PUBLISHED-TTL:P3D
REFRESH-INTERVAL:P3D
CALSCALE:GREGORIAN
BEGIN:VEVENT
DTSTART:20200715T220000Z
DTEND:20200715T230000Z
X-MICROSOFT-CDO-ALLDAYEVENT:FALSE
SUMMARY:Create Your Own Anime (Pokemon Style) Trading Cards - Summer Session
DESCRIPTION:Does your kid love Naruto\, Pokemon\,  Dragon Ball Z\, My Hero Academia\, Sailor Moon\, and the list goes on?\n\nDo they love collecting and trading their favorite "Pokemon" style cards with their friends??\n\nIf you answered yes\, then this class is their chance to make a complete set of their very own trading cards in their favorite characters or with their own original characters! \n\nStudents will draw on cards they can trade with their friends. These cards even double as a battle card game. Each child will get to make their own card set and get one set with a variety of cards from the class.\n\n \n\nAGES: 6 & UP\n\nThis is a 5-week course that meets once a week for one hour. \n\n\n	Week 1: Intro to the class. We will create the rules for the card game. Layout what cards will be created.\n	Week2-3: Work on the art and design of their cards.\n	Week 4: Work out the mechanics of the cards. Points\, Attacks and etc. Get them ready for print.\n\n\n\n	Week 5. Receive printed cards. Play and Trade in class. Take home all the original art and decks.\n\n\n***Returning students dive right making more cards from their previous decks\n\n \n\nREQUIREMENTS:\n\nImagination and Enthusiasm!!!\n\n\n\nTEACHER- Mike Watson-\n\n\n\nA Graduate of the Columbus College of Art and Design with a Bachelors of Fine Arts with a focus in Illustration\, Mike currently publishes over 50 comics with Short Fuse Media and Freestyle Komics. Mike has been teaching students from Kindergarteners to High Schoolers for well over 10 years. His unique brand of enthusiasm and love of the arts keeps kids engaged and entertained. His favorite question to ask is? ?Do you know artist rule the world??
X-ALT-DESC;FMTTYPE=text/html:<h3 style="box-sizing: border-box\; margin-bottom: 0.6rem\; font-weight: 300\; margin-top: 0px\; line-height: 1.2\; font-size: 1.75rem\; color: rgb(79\, 84\, 103)\; font-family: Cabin\, sans-serif\; background-color: rgb(248\, 249\, 250)\;">Does your kid love Naruto\, Pokemon\,&nbsp\; Dragon Ball Z\, My Hero Academia\, Sailor Moon\, and the list goes on?</h3>\n\n<p style="box-sizing: border-box\; margin-top: 0px\; margin-bottom: 1rem\; color: rgb(79\, 84\, 103)\; font-family: Cabin\, sans-serif\; font-size: 20px\; background-color: rgb(248\, 249\, 250)\;"><span style="box-sizing: border-box\; font-weight: 700\;">Do they love collecting and trading their favorite &quot\;Pokemon&quot\; style cards with their friends??</span></p>\n\n<p style="box-sizing: border-box\; margin-top: 0px\; margin-bottom: 1rem\; color: rgb(79\, 84\, 103)\; font-family: Cabin\, sans-serif\; font-size: 20px\; background-color: rgb(248\, 249\, 250)\;">If you answered yes\, then this class<span style="box-sizing: border-box\;">&nbsp\;is their chance to make a complete set of their very own trading cards in their favorite characters or with their own original characters!&nbsp\;</span></p>\n\n<p style="box-sizing: border-box\; margin-top: 0px\; margin-bottom: 1rem\; color: rgb(79\, 84\, 103)\; font-family: Cabin\, sans-serif\; font-size: 20px\; background-color: rgb(248\, 249\, 250)\;"><span style="box-sizing: border-box\;">Students will draw on cards they can trade with their friends. These cards even double as a battle card game. Each child will get to make their own card set and get one set with a variety of cards from the class.</span></p>\n\n<p style="box-sizing: border-box\; margin-top: 0px\; margin-bottom: 1rem\; color: rgb(79\, 84\, 103)\; font-family: Cabin\, sans-serif\; font-size: 20px\; background-color: rgb(248\, 249\, 250)\;">&nbsp\;</p>\n\n<p style="box-sizing: border-box\; margin-top: 0px\; margin-bottom: 1rem\; color: rgb(79\, 84\, 103)\; font-family: Cabin\, sans-serif\; font-size: 20px\; background-color: rgb(248\, 249\, 250)\;"><i style="box-sizing: border-box\;">AGES: 6 &amp\; UP</i></p>\n\n<p style="box-sizing: border-box\; margin-top: 0px\; margin-bottom: 1rem\; color: rgb(79\, 84\, 103)\; font-family: Cabin\, sans-serif\; font-size: 20px\; background-color: rgb(248\, 249\, 250)\;">This is a 5-week course that meets once a week for one hour.&nbsp\;</p>\n\n<ul style="box-sizing: border-box\; margin-bottom: 1rem\; margin-top: 0px\; color: rgb(79\, 84\, 103)\; font-family: Cabin\, sans-serif\; font-size: 20px\; background-color: rgb(248\, 249\, 250)\;">\n	<li style="box-sizing: border-box\;">Week 1: Intro to the class. We will create the rules for the card game. Layout what cards will be created.</li>\n	<li style="box-sizing: border-box\;">Week2-3: Work on the art and design of their cards.</li>\n	<li style="box-sizing: border-box\;">Week 4: Work out the mechanics of the cards. Points\, Attacks and etc. Get them ready for print.</li>\n</ul>\n\n<ul style="box-sizing: border-box\; margin-bottom: 1rem\; margin-top: 0px\; color: rgb(79\, 84\, 103)\; font-family: Cabin\, sans-serif\; font-size: 20px\; background-color: rgb(248\, 249\, 250)\;">\n	<li style="box-sizing: border-box\;">Week 5. Receive printed cards. Play and Trade in class. Take home all the original art and decks.</li>\n</ul>\n\n<p style="box-sizing: border-box\; margin-top: 0px\; margin-bottom: 1rem\; color: rgb(79\, 84\, 103)\; font-family: Cabin\, sans-serif\; font-size: 20px\; background-color: rgb(248\, 249\, 250)\;">***Returning students dive right making more cards from their previous decks</p>\n\n<p style="box-sizing: border-box\; margin-top: 0px\; margin-bottom: 1rem\; color: rgb(79\, 84\, 103)\; font-family: Cabin\, sans-serif\; font-size: 20px\; background-color: rgb(248\, 249\, 250)\;">&nbsp\;</p>\n\n<p style="box-sizing: border-box\; margin-top: 0px\; margin-bottom: 1rem\; color: rgb(79\, 84\, 103)\; font-family: Cabin\, sans-serif\; font-size: 20px\; background-color: rgb(248\, 249\, 250)\;">REQUIREMENTS:</p>\n\n<div style="box-sizing: border-box\; color: rgb(79\, 84\, 103)\; font-family: Cabin\, sans-serif\; font-size: 20px\; background-color: rgb(248\, 249\, 250)\;">Imagination and Enthusiasm!!!</div>\n\n<div style="box-sizing: border-box\; color: rgb(79\, 84\, 103)\; font-family: Cabin\, sans-serif\; font-size: 20px\; background-color: rgb(248\, 249\, 250)\;"><br style="box-sizing: border-box\;" />\nTEACHER- Mike Watson-<br style="box-sizing: border-box\; font-size: 14px\;" />\n<br style="box-sizing: border-box\; font-size: 14px\;" />\nA Graduate of the Columbus College of Art and Design with a Bachelors of Fine Arts with a focus in Illustration\, Mike currently publishes over 50 comics with Short Fuse Media and Freestyle Komics. Mike has been teaching students from Kindergarteners to High Schoolers for well over 10 years. His unique brand of enthusiasm and love of the arts keeps kids engaged and entertained. His favorite question to ask is? ?Do you know artist rule the world??</div>\n<br />\n<br />\n&nbsp\;
LOCATION:
UID:e.1451.14460
SEQUENCE:3
DTSTAMP:20260425T024740Z
URL:https://business.pickeringtonchamber.com/events/details/create-your-own-anime-pokemon-style-trading-cards-summer-session-07-15-2020-14460
END:VEVENT

END:VCALENDAR
