BEGIN:VCALENDAR
VERSION:2.0
PRODID:-//ChamberMaster//Event Calendar 2.0//EN
METHOD:PUBLISH
X-PUBLISHED-TTL:P3D
REFRESH-INTERVAL:P3D
CALSCALE:GREGORIAN
BEGIN:VEVENT
DTSTART:20190626T220000Z
DTEND:20190626T230000Z
X-MICROSOFT-CDO-ALLDAYEVENT:FALSE
SUMMARY:Craft It! Red\, White\, and Blue Star Garland
DESCRIPTION:Enjoy a stress free night of crafting! Celebrate Independence Day and create your own patriotic festive garland. \n\n\n\nAll supplies will be provided.\n\n\n\nAdults and teens are welcome to register in person\, online or by calling 614-837-4383 ext. 123.
X-ALT-DESC;FMTTYPE=text/html:<br />\n<span style="text-transform:none\;"><span style="font-size:12.0pt\;">Enjoy a stress free night of crafting! Celebrate Independence Day and create your own patriotic festive garland.&nbsp\;<br />\n<br />\nAll supplies will be provided.<br />\n<br />\nAdults and teens are welcome to register in person\, online or by calling 614-837-4383 ext. 123.</span></span><br />\n&nbsp\;
LOCATION:Sycamore Plaza Library 7861 Refugee Road Pickerington\, OH 43147
UID:e.1451.13355
SEQUENCE:3
DTSTAMP:20260426T010727Z
URL:https://business.pickeringtonchamber.com/events/details/craft-it-red-white-and-blue-star-garland-13355
END:VEVENT

END:VCALENDAR
