BEGIN:VCALENDAR
VERSION:2.0
PRODID:-//ChamberMaster//Event Calendar 2.0//EN
METHOD:PUBLISH
X-PUBLISHED-TTL:P3D
REFRESH-INTERVAL:P3D
CALSCALE:GREGORIAN
BEGIN:VEVENT
DTSTART:20191031T220000Z
DTEND:20191101T000000Z
X-MICROSOFT-CDO-ALLDAYEVENT:FALSE
SUMMARY:Community Trick or Treat
DESCRIPTION:Mid-Ohio Reginal Planning Commission set the unified "Trick or Treat" date for the next five years.  In a resolution approved by the Commission\, if Halloween\, October 31\, falls on a Friday\, Saturday or Sunday\, then "Trick or Treat" will be held the prior Thursday.  If Halloween falls on Monday\, Tuesday\, Wednesday or Thursday\, then "Trick or Treat" will be held on that day.
X-ALT-DESC;FMTTYPE=text/html:Mid-Ohio Reginal Planning Commission set the unified &quot\;Trick or Treat&quot\; date for the next five years.&nbsp\; In a resolution approved by the Commission\, if Halloween\, October 31\, falls on a Friday\, Saturday or Sunday\, then &quot\;Trick or Treat&quot\; will be held the prior Thursday.&nbsp\; If Halloween falls on Monday\, Tuesday\, Wednesday or Thursday\, then &quot\;Trick or Treat&quot\; will be held on that day.
LOCATION:Throughout Pickerington
UID:e.1451.12939
SEQUENCE:3
DTSTAMP:20260425T190757Z
URL:https://business.pickeringtonchamber.com/events/details/community-trick-or-treat-12939
END:VEVENT

END:VCALENDAR
