BEGIN:VCALENDAR
VERSION:2.0
PRODID:-//ChamberMaster//Event Calendar 2.0//EN
METHOD:PUBLISH
X-PUBLISHED-TTL:P3D
REFRESH-INTERVAL:P3D
CALSCALE:GREGORIAN
BEGIN:VEVENT
DTSTART:20220113T233000Z
DTEND:20220114T010000Z
X-MICROSOFT-CDO-ALLDAYEVENT:FALSE
SUMMARY:COMMERCIAL REAL ESTATE learning seminar for YOU
DESCRIPTION:Target audience:  Anyone interested in investing in different types of COMMERCIAL Real Estate such as multifamilies\, land\, retail\, office space\, industrial and MORE.  This is your opportunity to ASK QUESTIONS of all sorts.  My Team and I will be there to share information\, tips\, clarify your doubts\, and get you started.  If you want to expand your horizons\, you have your work in order\, and are itching to get into some investments\, come and join us tomorrow.  Please call me to reserve your spot 614-321-5328.  In person event\, R.S.V.P. 929 Eastwind Dr. Ste 206 Westerville\, OH 43081
X-ALT-DESC;FMTTYPE=text/html:Target audience:&nbsp\; Anyone interested in investing in different types of COMMERCIAL Real Estate such as multifamilies\, land\, retail\, office space\, industrial and MORE.&nbsp\; This is your opportunity to ASK QUESTIONS of all sorts.&nbsp\; My Team and I will be there to share information\, tips\, clarify your doubts\, and get you started.&nbsp\; If you want to expand your horizons\, you have your work in order\, and are itching to get into some investments\, come and join us tomorrow.&nbsp\; Please call me to reserve your spot 614-321-5328.&nbsp\; In person event\, R.S.V.P. 929 Eastwind Dr. Ste 206 Westerville\, OH 43081
LOCATION:929 Eastwind Dr. Ste 206 Westervillem\, OH 43081
UID:e.1451.15735
SEQUENCE:3
DTSTAMP:20260423T222128Z
URL:https://business.pickeringtonchamber.com/events/details/commercial-real-estate-learning-seminar-for-you-15735
END:VEVENT

END:VCALENDAR
