BEGIN:VCALENDAR
VERSION:2.0
PRODID:-//ChamberMaster//Event Calendar 2.0//EN
METHOD:PUBLISH
X-PUBLISHED-TTL:P3D
REFRESH-INTERVAL:P3D
CALSCALE:GREGORIAN
BEGIN:VEVENT
DTSTART:20210602T113000Z
DTEND:20210602T130000Z
X-MICROSOFT-CDO-ALLDAYEVENT:FALSE
SUMMARY:Coffee and Cashflow: FIVE WAYS TO INCREASE THE PROFITS IN YOUR BUSINESS
DESCRIPTION:A "must-attend" event for any business owner or decision-maker who wants to grow their business!\n\n\n\nInternationally recognized coach\, speaker\, and small business mentor\, Annette Hohnberger\, will share her easy to use formula and strategies to grow your business and take control of your cashflow.\n\n\n\nThis event is LIVE and FREE\, and we personally guarantee that you will learn something new that you can immediately apply to your business.
X-ALT-DESC;FMTTYPE=text/html:<br />\n<span style="color:#333333"><span style="font-family:arial\,sans-serif"><span style="font-size:10pt">A &quot\;must-attend&quot\; event for any business owner or decision-maker who wants to grow their business!</span></span></span><br />\n<br />\n<span style="color:#333333"><span style="font-family:arial\,sans-serif"><span style="font-size:10pt">Internationally recognized coach\, speaker\, and small business mentor\, Annette Hohnberger\, will share her easy to use formula and strategies to grow your business and take control of your cashflow.<br />\n<br />\nThis event is LIVE and FREE\, and we personally guarantee that you will learn something new that you can immediately apply to your business.</span></span></span>
LOCATION:8233 Howe Industrial Pkwy Canal Winchester\, OH 43110
UID:e.1451.15083
SEQUENCE:3
DTSTAMP:20260424T094626Z
URL:https://business.pickeringtonchamber.com/events/details/coffee-and-cashflow-five-ways-to-increase-the-profits-in-your-business-15083
END:VEVENT

END:VCALENDAR
