BEGIN:VCALENDAR
VERSION:2.0
PRODID:-//ChamberMaster//Event Calendar 2.0//EN
METHOD:PUBLISH
X-PUBLISHED-TTL:P3D
REFRESH-INTERVAL:P3D
CALSCALE:GREGORIAN
BEGIN:VEVENT
DTSTART:20210512T113000Z
DTEND:20210512T130000Z
X-MICROSOFT-CDO-ALLDAYEVENT:FALSE
SUMMARY:Coffee and Cashflow: FIVE KEYS TO UNLOCKING THE CASH IN YOUR BUSINESS
DESCRIPTION:Successful businesses oftentimes rely on two things: coffee and cashflow. And if you want to unlock the cash in your business\, save May 12 on your calendar. Back by popular demand\, we are launching our free seminars once again!\n\nActionCOACH Annette Hohnberger will be breaking down the FIVE KEYS TO UNLOCKING THE CASH IN YOUR BUSINESS. This event is LIVE and FREE. And I personally guarantee you'll take away some amazing strategies that you can immediately apply to your business.\n\nAs things finally start to open up\, are you ready to take your business to the next level?
X-ALT-DESC;FMTTYPE=text/html:<p><span style="font-size:14px"><span style="color:black">Successful businesses oftentimes rely on two things: coffee and cashflow. And if you want to unlock the cash in your business\,&nbsp\;</span><strong>save May 12 on your calendar.&nbsp\;</strong><span style="color:black">Back by popular demand\, we are launching our free seminars once again!</span></span></p>\n\n<p><span style="font-size:14px"><span style="color:black">ActionCOACH Annette Hohnberger will be breaking down the&nbsp\;</span></span><a href="https://click.icptrack.com/icp/relay.php?r=149748439&amp\;msgid=1071774&amp\;act=IA8A&amp\;c=964112&amp\;destination=https%3A%2F%2Fbf100.keap-link001.com%2Fapi%2Fv1%2Fclick%2F5817743463284736%2F6102698692313088&amp\;cf=36543&amp\;v=fcd84092b489f22b705a1fe4bc93d11d5b5b57ae9dbdc1bbec2718a569dd7eca" style="font-size: 18px\; color: rgb(6\, 69\, 173)\;" target="_blank" title="https://click.icptrack.com/icp/relay.php?r=149748439&amp\;msgid=1071774&amp\;act=IA8A&amp\;c=964112&amp\;destination=https%3A%2F%2Fbf100.keap-link001.com%2Fapi%2Fv1%2Fclick%2F5817743463284736%2F6102698692313088&amp\;cf=36543&amp\;v=fcd84092b489f22b705a1fe4bc93d11d5b5b57ae9dbdc1bbec2718a569dd7eca"><strong><u>FIVE KEYS TO UNLOCKING THE CASH IN YOUR BUSINESS</u></strong></a><strong>.</strong><span style="font-size:14px"><strong>&nbsp\;</strong><span style="color:black">This event is&nbsp\;</span><strong>LIVE</strong><span style="color:black">&nbsp\;and&nbsp\;</span><strong>FREE.</strong><span style="color:black">&nbsp\;And I personally guarantee you&#39\;ll take away some amazing strategies that you can immediately apply to your business.</span></span></p>\n\n<p style="text-align:center"><span style="font-size:14px"><strong>As things finally start to open up\, are you ready to take your business to the next level?</strong></span></p>\n
LOCATION:Buji ActionCOACH 8233 Howe Industrial Pkwy Canal Winchester\, OH 43110
UID:e.1451.15060
SEQUENCE:3
DTSTAMP:20260424T112933Z
URL:https://business.pickeringtonchamber.com/events/details/coffee-and-cashflow-five-keys-to-unlocking-the-cash-in-your-business-15060
END:VEVENT

END:VCALENDAR
